BEGIN:VCALENDAR
VERSION:2.0
PRODID:-//Horry County Museum - ECPv6.15.14//NONSGML v1.0//EN
CALSCALE:GREGORIAN
METHOD:PUBLISH
X-ORIGINAL-URL:https://www.horrycountymuseum.org
X-WR-CALDESC:Events for Horry County Museum
REFRESH-INTERVAL;VALUE=DURATION:PT1H
X-Robots-Tag:noindex
X-PUBLISHED-TTL:PT1H
BEGIN:VTIMEZONE
TZID:UTC
BEGIN:STANDARD
TZOFFSETFROM:+0000
TZOFFSETTO:+0000
TZNAME:UTC
DTSTART:20240101T000000
END:STANDARD
END:VTIMEZONE
BEGIN:VEVENT
DTSTART;TZID=UTC:20250108T130000
DTEND;TZID=UTC:20250108T130000
DTSTAMP:20260423T164934
CREATED:20241216T192512Z
LAST-MODIFIED:20241216T192526Z
UID:4152-1736341200-1736341200@www.horrycountymuseum.org
SUMMARY:Waves of Change: The Story of Myrtle Beach\, SC
DESCRIPTION:The 2025 Horry County Museum Documentary Film Series starts off with Waves of Change: The Story of Myrtle Beach\, SC.  Written and produced by Barbara Stokes\, this series follows almost a century in the history\, development\, and people of the sleepy beach village that became a national tourist destination. It explores how the community of Myrtle Beach has dealt with two major goals: to bring people to the beach and to build a hometown. The film also explores some of the major setbacks to development as well as the forces and people that propelled its growth. And it discusses the next wave of change-continued increase in growth and the challenges that come with that growth. \nThe film is free to the public and will be shown at 1:00 PM\, Wednesday\, January 8th\, at the Horry County Museum\, located at 805 Main Street in Conway. \nThe Horry County Museum Documentary Film Matinees will continue throughout 2025. For a list of films\, visit our website at www.horrycountymuseum.org. For more information\, call the Horry County Museum at 843-915-5320 or e-mail hcg.museum@horrycountysc.gov.
URL:https://www.horrycountymuseum.org/event/waves-of-change-the-story-of-myrtle-beach-sc-4/
LOCATION:Horry County Museum\, 805 Main Street\, Conway\, SC\, 29526\, United States
END:VEVENT
END:VCALENDAR