BEGIN:VCALENDAR
VERSION:2.0
PRODID:-//Horry County Museum - ECPv6.15.14//NONSGML v1.0//EN
CALSCALE:GREGORIAN
METHOD:PUBLISH
X-ORIGINAL-URL:https://www.horrycountymuseum.org
X-WR-CALDESC:Events for Horry County Museum
REFRESH-INTERVAL;VALUE=DURATION:PT1H
X-Robots-Tag:noindex
X-PUBLISHED-TTL:PT1H
BEGIN:VTIMEZONE
TZID:UTC
BEGIN:STANDARD
TZOFFSETFROM:+0000
TZOFFSETTO:+0000
TZNAME:UTC
DTSTART:20240101T000000
END:STANDARD
END:VTIMEZONE
BEGIN:VEVENT
DTSTART;TZID=UTC:20250111T090000
DTEND;TZID=UTC:20250111T103000
DTSTAMP:20260423T164851
CREATED:20241216T192637Z
LAST-MODIFIED:20241216T192701Z
UID:4154-1736586000-1736591400@www.horrycountymuseum.org
SUMMARY:Free Children’s Program at the L.W. Paul Living History Farm
DESCRIPTION:Join us for free 30 minute Saturday activities at the Farm! Parents can sign children up for a half hour session between 9 AM-11 AM. Group sizes will be limited. On January 11th children will learn about the importance of homemade soap on the family farm. Participants will also have a chance to make their own melt and pour soap to take home! \nFor information about available times and to register\, contact Marian Calder at 843-915-7861 or email calder.marian@horrycountysc.gov . Available sessions are 9\, 9:30\, 10 or 10:30\, please specify which session you would like upon registering. \nThe L.W. Paul Living History Farm is open Tuesday through Saturday\, 9 AM-4 PM and is located at 2279 Harris Short Cut Road\, Conway\, SC 29526.
URL:https://www.horrycountymuseum.org/event/free-childrens-program-at-the-l-w-paul-living-history-farm-50/
LOCATION:L.W. Paul Living History Farm\, 2279 Harris Short Cut Rd\, Conway\, SC\, 29526\, United States
END:VEVENT
BEGIN:VEVENT
DTSTART;TZID=UTC:20250111T130000
DTEND;TZID=UTC:20250111T130000
DTSTAMP:20260423T164851
CREATED:20241216T193235Z
LAST-MODIFIED:20241216T193401Z
UID:4156-1736600400-1736600400@www.horrycountymuseum.org
SUMMARY:Tom Strebeck: The History of Myrtle Beach Air Force Base
DESCRIPTION:The Horry County Museum presents a program about the history of Myrtle Beach Air Force Base by the Museum’s Technical Assistant\, Tom Strebeck on Saturday\, January 11th\, at 1:00 PM. Strebeck will discuss the operations of Myrtle Beach Army Air Field during World War II\, how units from Myrtle Beach Air Force Base served during the Cold War\, and the redevelopment of the area after the Base closed in 1993. \nTom Strebeck grew up in North Louisiana and moved to South Carolina for graduate school in 2021. He received a Bachelor’s degree from Louisiana Tech University and a Master’s degree from the University of South Carolina. He has volunteered or interned at the North Louisiana Military Museum\, George Washington’s Mount Vernon\, Old Sturbridge Village\, and the South Carolina Confederate Relic Room and Military Museum. He has worked as the Technical Assistant at the Horry County Museum since 2023. \nThe program is free to the public and will be held in the Museum’s McCown Auditorium located at 805 Main Street\, Conway\, SC 29526. For more information\, call 843-915-5320 or email hcg.museum@horrycountysc.gov. To view a full list of scheduled programs\, visit the museum website at www.horrycountymuseum.org.
URL:https://www.horrycountymuseum.org/event/tom-strebeck-the-history-of-myrtle-beach-air-force-base/
LOCATION:Horry County Museum\, 805 Main Street\, Conway\, SC\, 29526\, United States
END:VEVENT
END:VCALENDAR