BEGIN:VCALENDAR
VERSION:2.0
PRODID:-//Horry County Museum - ECPv6.15.14//NONSGML v1.0//EN
CALSCALE:GREGORIAN
METHOD:PUBLISH
X-WR-CALNAME:Horry County Museum
X-ORIGINAL-URL:https://www.horrycountymuseum.org
X-WR-CALDESC:Events for Horry County Museum
REFRESH-INTERVAL;VALUE=DURATION:PT1H
X-Robots-Tag:noindex
X-PUBLISHED-TTL:PT1H
BEGIN:VTIMEZONE
TZID:UTC
BEGIN:STANDARD
TZOFFSETFROM:+0000
TZOFFSETTO:+0000
TZNAME:UTC
DTSTART:20240101T000000
END:STANDARD
END:VTIMEZONE
BEGIN:VEVENT
DTSTART;TZID=UTC:20250125T090000
DTEND;TZID=UTC:20250125T120000
DTSTAMP:20260423T175254
CREATED:20241216T194856Z
LAST-MODIFIED:20241216T194916Z
UID:4162-1737795600-1737806400@www.horrycountymuseum.org
SUMMARY:Smokehouse Day at the L.W. Paul Living History Farm
DESCRIPTION:Join us on January 25th from 9 AM-Noon at the L.W. Paul Living History Farm to celebrate the pig! The public is invited to experience how families would have prepared pork to be preserved on a typical Horry County Farm in the early 1900s. Winter was a season when the farm family was often dependent on home preserved foods\, and the perfect time of year for curing pork. Once the meat was cured\, families could not only eat the pork during the winter season\, but also throughout the year. No part of the animal was wasted on the farm\, from using the fat to render into lard\, to creating dishes like chitterlings\, hog head cheese\, or even pickled pig’s feet! Demonstrations include the carving and preparation of pork\, salting and curing meat in the smokehouse\, rendering lard\, cooking demos\, and more! \nThe L.W. Paul Living History Farm is open Tuesday-Saturday 9 AM-4 PM and teaches the history of the Horry County farm family from 1900-1955. The Farm is free and open to the public and is located at the corner of Hwy 701 North and Harris Shortcut Road in Conway\, SC. For more information\, please contact the L. W. Paul Living History Farm at 843-915-5321 or email the Horry County Museum at hcg.museum@horrycountysc.gov. \nFor a full list of programs and events at the Horry County Museum and L.W. Paul Living History Farm\, visit our website at www.horrycountymuseum.org.
URL:https://www.horrycountymuseum.org/event/smokehouse-day-at-the-l-w-paul-living-history-farm-7/
LOCATION:Horry County Museum\, 805 Main Street\, Conway\, SC\, 29526\, United States
END:VEVENT
END:VCALENDAR