BEGIN:VCALENDAR
VERSION:2.0
PRODID:-//Horry County Museum - ECPv6.15.14//NONSGML v1.0//EN
CALSCALE:GREGORIAN
METHOD:PUBLISH
X-ORIGINAL-URL:https://www.horrycountymuseum.org
X-WR-CALDESC:Events for Horry County Museum
REFRESH-INTERVAL;VALUE=DURATION:PT1H
X-Robots-Tag:noindex
X-PUBLISHED-TTL:PT1H
BEGIN:VTIMEZONE
TZID:UTC
BEGIN:STANDARD
TZOFFSETFROM:+0000
TZOFFSETTO:+0000
TZNAME:UTC
DTSTART:20240101T000000
END:STANDARD
END:VTIMEZONE
BEGIN:VEVENT
DTSTART;TZID=UTC:20250205T130000
DTEND;TZID=UTC:20250205T130000
DTSTAMP:20260423T154601
CREATED:20250117T234117Z
LAST-MODIFIED:20250117T234117Z
UID:4173-1738760400-1738760400@www.horrycountymuseum.org
SUMMARY:A True Likeness. Part of the Carolina Stories Series
DESCRIPTION:The 2025 Horry County Museum Documentary Film Series continues with A True Likeness. Part of the Carolina Stories Series by SCETV\, this 30 minute film tells the story of Richard Samuel Roberts\, a little-known African American photographer from South Carolina whose posthumous discovery transcended stereotypes and brought to light a significant legacy. Heralded as one of the south’s most accomplished photographers of the 1920’s and 1930’s\, Roberts was a self-taught artist who was determined to become a master portrait maker\, with every image a true likeness of the subject. But for more than 40 years after his death his work remained lost to all but his family and friends. \nThe film is free to the public and will be shown at 1:00 PM\, Wednesday\, February 5th\, at the Horry County Museum\, located at 805 Main Street in Conway. \nThe Horry County Museum Documentary Film Matinees will continue throughout 2025. For a list of films\, visit our website at www.horrycountymuseum.org. For more information\, call the Horry County Museum at 843-915-5320 or e-mail hcg.museum@horrycountysc.gov.
URL:https://www.horrycountymuseum.org/event/a-true-likeness-part-of-the-carolina-stories-series/
LOCATION:Horry County Museum\, 805 Main Street\, Conway\, SC\, 29526\, United States
END:VEVENT
END:VCALENDAR