BEGIN:VCALENDAR
VERSION:2.0
PRODID:-//Horry County Museum - ECPv6.15.14//NONSGML v1.0//EN
CALSCALE:GREGORIAN
METHOD:PUBLISH
X-ORIGINAL-URL:https://www.horrycountymuseum.org
X-WR-CALDESC:Events for Horry County Museum
REFRESH-INTERVAL;VALUE=DURATION:PT1H
X-Robots-Tag:noindex
X-PUBLISHED-TTL:PT1H
BEGIN:VTIMEZONE
TZID:UTC
BEGIN:STANDARD
TZOFFSETFROM:+0000
TZOFFSETTO:+0000
TZNAME:UTC
DTSTART:20240101T000000
END:STANDARD
END:VTIMEZONE
BEGIN:VEVENT
DTSTART;VALUE=DATE:20250222
DTEND;VALUE=DATE:20250223
DTSTAMP:20260423T190246
CREATED:20250117T235432Z
LAST-MODIFIED:20250117T235432Z
UID:4187-1740182400-1740268799@www.horrycountymuseum.org
SUMMARY:Gullah Geechee Community Day
DESCRIPTION:The Horry County Museum is excited to participate once again as a venue during the 2025 Gullah Geechee Community Day on February 22nd! Activities will take place in and around downtown Conway throughout the day. For more information\, visit https://gullahgeecheeday.com/.
URL:https://www.horrycountymuseum.org/event/gullah-geechee-community-day-4/
LOCATION:Horry County Museum\, 805 Main Street\, Conway\, SC\, 29526\, United States
END:VEVENT
END:VCALENDAR