BEGIN:VCALENDAR
VERSION:2.0
PRODID:-//Horry County Museum - ECPv6.15.14//NONSGML v1.0//EN
CALSCALE:GREGORIAN
METHOD:PUBLISH
X-ORIGINAL-URL:https://www.horrycountymuseum.org
X-WR-CALDESC:Events for Horry County Museum
REFRESH-INTERVAL;VALUE=DURATION:PT1H
X-Robots-Tag:noindex
X-PUBLISHED-TTL:PT1H
BEGIN:VTIMEZONE
TZID:UTC
BEGIN:STANDARD
TZOFFSETFROM:+0000
TZOFFSETTO:+0000
TZNAME:UTC
DTSTART:20240101T000000
END:STANDARD
END:VTIMEZONE
BEGIN:VEVENT
DTSTART;TZID=UTC:20250307T140000
DTEND;TZID=UTC:20250307T140000
DTSTAMP:20260423T164902
CREATED:20250220T211054Z
LAST-MODIFIED:20250220T211054Z
UID:4241-1741356000-1741356000@www.horrycountymuseum.org
SUMMARY:Indigo dyeing workshop at the L.W. Paul Living History Farm
DESCRIPTION:The L.W. Paul Living History Farm will host two free hands-on workshops on indigo dyeing. Workshops will take place on March 7th and March 21st at 2 PM. Participants will learn about the history of indigo in South Carolina and have the opportunity to design and dye their own handkerchief. Space is limited\, pre-registration is required. To sign up\, contact Marian Calder at 843-915-7861 or email calder.marian@horrycountysc.gov. \nA workshop geared towards children will be available Saturday\, March 8th at the Farm. Available sessions are 9\, 9:30\, 10 or 10:30\, please specify which session you would like for your child upon registering. \nThe L.W. Paul Living History Farm is located at 2279 Harris Short Cut Road\, Conway\, SC 29526. For more information about the Farm\, the Horry County Museum\, or programming at both sites\, visit our website at www.horrycountymuseum.org.
URL:https://www.horrycountymuseum.org/event/indigo-dyeing-workshop-at-the-l-w-paul-living-history-farm-4/
LOCATION:L.W. Paul Living History Farm\, 2279 Harris Short Cut Rd\, Conway\, SC\, 29526\, United States
END:VEVENT
END:VCALENDAR