BEGIN:VCALENDAR
VERSION:2.0
PRODID:-//Horry County Museum - ECPv6.15.14//NONSGML v1.0//EN
CALSCALE:GREGORIAN
METHOD:PUBLISH
X-WR-CALNAME:Horry County Museum
X-ORIGINAL-URL:https://www.horrycountymuseum.org
X-WR-CALDESC:Events for Horry County Museum
REFRESH-INTERVAL;VALUE=DURATION:PT1H
X-Robots-Tag:noindex
X-PUBLISHED-TTL:PT1H
BEGIN:VTIMEZONE
TZID:UTC
BEGIN:STANDARD
TZOFFSETFROM:+0000
TZOFFSETTO:+0000
TZNAME:UTC
DTSTART:20240101T000000
END:STANDARD
END:VTIMEZONE
BEGIN:VEVENT
DTSTART;TZID=UTC:20250312T130000
DTEND;TZID=UTC:20250312T130000
DTSTAMP:20260423T142223
CREATED:20250213T222348Z
LAST-MODIFIED:20250213T222348Z
UID:4217-1741784400-1741784400@www.horrycountymuseum.org
SUMMARY:The Baruchs of Hobcaw\, part of the Carolina Stories
DESCRIPTION:The 2025 Horry County Museum Documentary Film Series continues with The Baruchs of Hobcaw\, part of the Carolina Stories Series by SCETV. \nIn 1718\, 17\,500 acres of pristine land in Georgetown County became a colonial land grant\, or barony\, from the King of England to one of the Lords Proprietors. The Native Americans called it “hobcaw\,” meaning between the waters. Purchased by Bernard Baruch in 1905\, Hobcaw Barony eventually passed into the hands of Baruch’s daughter\, Belle\, who created a foundation to protect it from development. This film tells the story of the Baruchs and Hobcaw Barony\, which is today home to USC’s Baruch Marine Field Laboratory and Clemson’s Belle W. Baruch Institute of Coastal Ecology and Forest Science. \nThe film is free to the public and will be shown at 1:00 PM\, Wednesday\, March 12th\, at the Horry County Museum\, located at 805 Main Street in Conway. \nThe Horry County Museum Documentary Film Matinees will continue throughout 2025. For a list of films\, visit our website at www.horrycountymuseum.org. For more information\, call the Horry County Museum at 843-915-5320 or e-mail hcg.museum@horrycountysc.gov.
URL:https://www.horrycountymuseum.org/event/the-baruchs-of-hobcaw-part-of-the-carolina-stories/
LOCATION:Horry County Museum\, 805 Main Street\, Conway\, SC\, 29526\, United States
END:VEVENT
BEGIN:VEVENT
DTSTART;TZID=UTC:20250312T140000
DTEND;TZID=UTC:20250312T140000
DTSTAMP:20260423T142223
CREATED:20250220T211419Z
LAST-MODIFIED:20250220T211419Z
UID:4247-1741788000-1741788000@www.horrycountymuseum.org
SUMMARY:Embroidery Workshop at the Horry County Museum
DESCRIPTION:The Horry County Museum will host a free workshop on Embroidery for Beginners Wednesday\, March 12th at 2 PM. Participants will learn a few of the basic embroidery stitches and create a small piece to take home. Space is limited\, pre-registration is required. To sign up\, contact Marian Calder at 843-915-7861 or email calder.marian@horrycountysc.gov. \nThe Horry County Museum is located at 805 Main Street\, Conway\, SC 29526. For more information about programming at the Museum\, visit our website at www.horrycountymuseum.org.
URL:https://www.horrycountymuseum.org/event/embroidery-workshop-at-the-horry-county-museum-3/
LOCATION:Horry County Museum\, 805 Main Street\, Conway\, SC\, 29526\, United States
END:VEVENT
END:VCALENDAR