BEGIN:VCALENDAR
VERSION:2.0
PRODID:-//Horry County Museum - ECPv6.15.14//NONSGML v1.0//EN
CALSCALE:GREGORIAN
METHOD:PUBLISH
X-WR-CALNAME:Horry County Museum
X-ORIGINAL-URL:https://www.horrycountymuseum.org
X-WR-CALDESC:Events for Horry County Museum
REFRESH-INTERVAL;VALUE=DURATION:PT1H
X-Robots-Tag:noindex
X-PUBLISHED-TTL:PT1H
BEGIN:VTIMEZONE
TZID:UTC
BEGIN:STANDARD
TZOFFSETFROM:+0000
TZOFFSETTO:+0000
TZNAME:UTC
DTSTART:20240101T000000
END:STANDARD
END:VTIMEZONE
BEGIN:VEVENT
DTSTART;TZID=UTC:20250314T130000
DTEND;TZID=UTC:20250314T130000
DTSTAMP:20260423T185557
CREATED:20250220T211726Z
LAST-MODIFIED:20250220T211726Z
UID:4251-1741957200-1741957200@www.horrycountymuseum.org
SUMMARY:Crochet Workshop at the Horry County Museum
DESCRIPTION:The Horry County Museum will host two free workshops: Crochet for Beginners\, at 1 PM on Friday\, March 14th and Thursday\, March 20th. Both workshops will be the same program so please sign up for whichever day works best for your schedule. Participants will learn a few of the basic stitches\, reading patterns\, and start a granny square to take home. Space is limited\, pre-registration is required. To sign up\, contact Abigail Geedy at 843-915-7864 or email geedy.abigail@horrycountysc.gov. \nThe Horry County Museum is located at 805 Main Street\, Conway\, SC 29526. For more information about programming at the Museum\, visit our website at www.horrycountymuseum.org.
URL:https://www.horrycountymuseum.org/event/crochet-workshop-at-the-horry-county-museum/
LOCATION:Horry County Museum\, 805 Main Street\, Conway\, SC\, 29526\, United States
END:VEVENT
END:VCALENDAR