BEGIN:VCALENDAR
VERSION:2.0
PRODID:-//Horry County Museum - ECPv6.15.14//NONSGML v1.0//EN
CALSCALE:GREGORIAN
METHOD:PUBLISH
X-WR-CALNAME:Horry County Museum
X-ORIGINAL-URL:https://www.horrycountymuseum.org
X-WR-CALDESC:Events for Horry County Museum
REFRESH-INTERVAL;VALUE=DURATION:PT1H
X-Robots-Tag:noindex
X-PUBLISHED-TTL:PT1H
BEGIN:VTIMEZONE
TZID:UTC
BEGIN:STANDARD
TZOFFSETFROM:+0000
TZOFFSETTO:+0000
TZNAME:UTC
DTSTART:20240101T000000
END:STANDARD
END:VTIMEZONE
BEGIN:VEVENT
DTSTART;TZID=UTC:20250315T090000
DTEND;TZID=UTC:20250315T110000
DTSTAMP:20260423T142259
CREATED:20250213T222652Z
LAST-MODIFIED:20250213T222652Z
UID:4221-1742029200-1742036400@www.horrycountymuseum.org
SUMMARY:Free Children’s Program at the L.W. Paul Living History Farm
DESCRIPTION:Join us Saturday\, March 15th for a free 30 minute activity at the Farm! Parents can sign children up for a half hour session between 9 AM-11 AM. Group sizes will be limited. Children will learn about marbled paper and how it was used in the past. They’ll also use chalk to create their own marbled paper to take home. \nFor information about available times and to register\, contact Marian Calder at 843-915-7861 or email calder.marian@horrycountysc.gov . Available sessions are 9\, 9:30\, 10 or 10:30\, please specify which session you would like upon registering. \nThe L.W. Paul Living History Farm is open Tuesday through Saturday\, 9 AM-4 PM and is located at 2279 Harris Short Cut Road\, Conway\, SC 29526.
URL:https://www.horrycountymuseum.org/event/free-childrens-program-at-the-l-w-paul-living-history-farm-55/
LOCATION:L.W. Paul Living History Farm\, 2279 Harris Short Cut Rd\, Conway\, SC\, 29526\, United States
END:VEVENT
BEGIN:VEVENT
DTSTART;TZID=UTC:20250315T100000
DTEND;TZID=UTC:20250315T100000
DTSTAMP:20260423T142259
CREATED:20250213T222557Z
LAST-MODIFIED:20250213T222557Z
UID:4219-1742032800-1742032800@www.horrycountymuseum.org
SUMMARY:Quilts of Valor at the Horry County Museum
DESCRIPTION:The public is invited to view a special Quilts of Valor presentation at the Horry County Museum. Quilts made especially for local veterans will be presented by the Conway Quilt Guild Quilts of Valor Group on Saturday\, March 15th at 10 AM. \nThe mission of the Quilts of Valor Foundation (QOVF) is to cover all service members and veterans\, touched by war\, with a comforting and healing quilt. Since 2003\, the foundation\, now a national organization\, has awarded over 400\,000 quilts to veterans throughout the country. The Conway Quilt Guild has been recognized as one of the newest QOV groups\, seeking to expand recognition to veterans in the northern and western parts of Horry County. To nominate a veteran for a Quilt of Valor\, visit www.qovf.org. For more information about the Conway Quilt Guild\, email conwayquilters@yahoo.com. \nThis program is free and open to the public and will be held in the Museum’s McCown Auditorium\, located at 805 Main Street in Conway\, SC. To view a full list of programs at the Horry County Museum\, visit our website at www.horrycountymuseum.org.
URL:https://www.horrycountymuseum.org/event/quilts-of-valor-at-the-horry-county-museum-5/
LOCATION:Horry County Museum\, 805 Main Street\, Conway\, SC\, 29526\, United States
END:VEVENT
BEGIN:VEVENT
DTSTART;TZID=UTC:20250315T130000
DTEND;TZID=UTC:20250315T130000
DTSTAMP:20260423T142259
CREATED:20250213T222923Z
LAST-MODIFIED:20250213T222923Z
UID:4223-1742043600-1742043600@www.horrycountymuseum.org
SUMMARY:Saltwater Chamber Orchestra to Perform at the Horry County Museum
DESCRIPTION:The Horry County Museum presents a concert by the Saltwater Chamber Orchestra on Saturday\, March 15th at 1 PM. Comprised of volunteer members and performers\, Saltwater Chamber Orchestra boasts a robust season of concerts with quality music performance. The group began as a club in the Coastal Carolina OLLI program in Myrtle Beach\, SC\, and is now an independent chamber string orchestra. Their repertoire consists of classical and show/pop selections\, as well as selections for various holidays. Throughout the years since its founding\, the organization has performed along the Grand Strand coast of South Carolina\, sharing the comforting sounds of strings in the palmetto community. Venues have included churches\, schools\, libraries\, and museums\, as part of an ongoing concert series\, and for educational\, charitable\, and civic events. For more information about the Saltwater Chamber Orchestra\, and to view a schedule of their events\, visit www.saltwaterchamberorchestra.org. \nThe concert will be held in the Museum’s McCown Auditorium located at 805 Main Street\, Conway\, SC 29526. This event is free and open to the public. For more information\, call 843-915-5320 or email hcg.museum@horrycountysc.gov. For more information about programs for 2025\, visit the museum website at www.horrycountymuseum.org.
URL:https://www.horrycountymuseum.org/event/saltwater-chamber-orchestra-to-perform-at-the-horry-county-museum/
LOCATION:Horry County Museum\, 805 Main Street\, Conway\, SC\, 29526\, United States
END:VEVENT
END:VCALENDAR