BEGIN:VCALENDAR
VERSION:2.0
PRODID:-//Horry County Museum - ECPv6.15.14//NONSGML v1.0//EN
CALSCALE:GREGORIAN
METHOD:PUBLISH
X-WR-CALNAME:Horry County Museum
X-ORIGINAL-URL:https://www.horrycountymuseum.org
X-WR-CALDESC:Events for Horry County Museum
REFRESH-INTERVAL;VALUE=DURATION:PT1H
X-Robots-Tag:noindex
X-PUBLISHED-TTL:PT1H
BEGIN:VTIMEZONE
TZID:UTC
BEGIN:STANDARD
TZOFFSETFROM:+0000
TZOFFSETTO:+0000
TZNAME:UTC
DTSTART:20240101T000000
END:STANDARD
END:VTIMEZONE
BEGIN:VEVENT
DTSTART;TZID=UTC:20250322T090000
DTEND;TZID=UTC:20250322T110000
DTSTAMP:20260423T175258
CREATED:20250213T224020Z
LAST-MODIFIED:20250213T224020Z
UID:4229-1742634000-1742641200@www.horrycountymuseum.org
SUMMARY:Free Children’s Program at the L.W. Paul Living History Farm
DESCRIPTION:Join us Saturday\, March 22nd\, for a free 30 minute activity at the Farm! Parents can sign children up for a half hour session between 9 AM-11 AM. Group sizes will be limited. Children will learn how scrap fabric was used to make bed and floor rugs in the past. They’ll also start their own piece to take home. \nFor information about available times and to register\, contact Marian Calder at 843-915-7861 or email calder.marian@horrycountysc.gov . Available sessions are 9\, 9:30\, 10 or 10:30\, please specify which session you would like upon registering. \nThe L.W. Paul Living History Farm is open Tuesday through Saturday\, 9 AM-4 PM and is located at 2279 Harris Short Cut Road\, Conway\, SC 29526.
URL:https://www.horrycountymuseum.org/event/free-childrens-program-at-the-l-w-paul-living-history-farm-56/
LOCATION:L.W. Paul Living History Farm\, 2279 Harris Short Cut Rd\, Conway\, SC\, 29526\, United States
END:VEVENT
BEGIN:VEVENT
DTSTART;TZID=UTC:20250322T130000
DTEND;TZID=UTC:20250322T130000
DTSTAMP:20260423T175258
CREATED:20250213T224117Z
LAST-MODIFIED:20250213T224117Z
UID:4231-1742648400-1742648400@www.horrycountymuseum.org
SUMMARY:Rub-a-Dub-Dub: Does Your Quilt Belong in the Tub?
DESCRIPTION:We’re celebrating textiles throughout March at the Horry County Museum! Join us on Saturday\, March 22nd at 1 PM as Certified Quilt Appraiser Brenda Grampsas answers questions about the care and storage of quilts. Grampsas will present methods of treating stains and laundering quilts that have worked for her and her clients for years. Questions are welcome! \nBrenda Grampsas is an American Quilters Society Quilt Appraiser\, certified in 2005.  Brenda has a lifetime of sewing and quilting experience with a passion for all things quilted.  Her experience in teaching the “how to” of quilting extends not only to adults but many years of quilting classes with children and teens.  Watching others catch the “quilt bug” through her shared trunk shows\, lectures and workshops feeds the natural teacher in her.  She is inspired by quilts from many eras and is especially fascinated by scrap quilts because of their wide range of fabrics. Brenda is very involved in the restoration of quilts.  Teaching others the art of restoration has become advantageous due to the many requests for restoration service. More information can be found on Brenda’s website   www.thimbletales.com. \nThe program will begin at 1:00 PM at the Horry County Museum\, located at 805 Main Street\, Conway SC. This event is free and open to the public. For more information\, call 843-915-5320 or email hcg.museum@horrycountysc.gov . To view a full list of programs\, visit our website at www.horrycountymuseum.org.
URL:https://www.horrycountymuseum.org/event/rub-a-dub-dub-does-your-quilt-belong-in-the-tub/
LOCATION:Horry County Museum\, 805 Main Street\, Conway\, SC\, 29526\, United States
END:VEVENT
END:VCALENDAR