BEGIN:VCALENDAR
VERSION:2.0
PRODID:-//Horry County Museum - ECPv6.15.14//NONSGML v1.0//EN
CALSCALE:GREGORIAN
METHOD:PUBLISH
X-WR-CALNAME:Horry County Museum
X-ORIGINAL-URL:https://www.horrycountymuseum.org
X-WR-CALDESC:Events for Horry County Museum
REFRESH-INTERVAL;VALUE=DURATION:PT1H
X-Robots-Tag:noindex
X-PUBLISHED-TTL:PT1H
BEGIN:VTIMEZONE
TZID:UTC
BEGIN:STANDARD
TZOFFSETFROM:+0000
TZOFFSETTO:+0000
TZNAME:UTC
DTSTART:20240101T000000
END:STANDARD
END:VTIMEZONE
BEGIN:VEVENT
DTSTART;TZID=UTC:20250325T130000
DTEND;TZID=UTC:20250325T130000
DTSTAMP:20260423T153746
CREATED:20250220T212431Z
LAST-MODIFIED:20250220T212431Z
UID:4255-1742907600-1742907600@www.horrycountymuseum.org
SUMMARY:Antique Quilts of Lexington County
DESCRIPTION:We’re celebrating textiles throughout the month of March at the Horry County Museum! Join us March 25th at 1 pm for a program by Patricia Shandor of the Lexington County Museum. This presentation will focus on the quilts and decorative arts of Dutch Fork and Lexington County. Visitors will learn about the German and Swiss German influences in quilts found in Lexington County and will also have the opportunity to view some of the quilts from the Lexington County Museum’s collections. \nThis program is free to the public. The Horry County Museum is located at 805 Main St.\, Conway\, SC 29526. For more information\, call 843-915-5320 or email hcg.museum@horrycountysc.gov . To view a full list of programs\, visit our website at www.horrycountymuseum.org.
URL:https://www.horrycountymuseum.org/event/antique-quilts-of-lexington-county/
LOCATION:Horry County Museum\, 805 Main Street\, Conway\, SC\, 29526\, United States
END:VEVENT
END:VCALENDAR