BEGIN:VCALENDAR
VERSION:2.0
PRODID:-//Horry County Museum - ECPv6.15.14//NONSGML v1.0//EN
CALSCALE:GREGORIAN
METHOD:PUBLISH
X-WR-CALNAME:Horry County Museum
X-ORIGINAL-URL:https://www.horrycountymuseum.org
X-WR-CALDESC:Events for Horry County Museum
REFRESH-INTERVAL;VALUE=DURATION:PT1H
X-Robots-Tag:noindex
X-PUBLISHED-TTL:PT1H
BEGIN:VTIMEZONE
TZID:UTC
BEGIN:STANDARD
TZOFFSETFROM:+0000
TZOFFSETTO:+0000
TZNAME:UTC
DTSTART:20240101T000000
END:STANDARD
END:VTIMEZONE
BEGIN:VEVENT
DTSTART;TZID=UTC:20250402T130000
DTEND;TZID=UTC:20250402T130000
DTSTAMP:20260423T080459
CREATED:20250321T193009Z
LAST-MODIFIED:20250321T193032Z
UID:4259-1743598800-1743598800@www.horrycountymuseum.org
SUMMARY:Jail\, No Bail\, part of the Carolina Stories Series
DESCRIPTION:The 2025 Horry County Museum Documentary Film Series continues with Jail\, No Bail\, part of the Carolina Stories Series produced by SCETV. In January of 1961\, black students from Friendship Junior College in Rock Hill\, SC walked into McCrory’s\, sat at the lunch counter\, and ordered hamburgers and soft drinks. They were denied service and asked to leave. After refusing to leave\, the students were arrested for trespassing and processed. This 30 minute program pays tribute to the ‘Friendship Nine’ sit-in protest that inspired the Jail\, No Bail Movement\, a strategy which turned the tables on the establishment and reinvigorated the National Civil Rights Movement. \nThe film is free to the public and will be shown at 1:00 PM\, Wednesday\, April 2nd\, at the Horry County Museum\, located at 805 Main Street in Conway. \nThe Horry County Museum Documentary Film Matinees will continue throughout 2025. For a list of films\, visit our website at www.horrycountymuseum.org. For more information\, call the Horry County Museum at 843-915-5320 or e-mail hcg.museum@horrycountysc.gov.
URL:https://www.horrycountymuseum.org/event/jail-no-bail-part-of-the-carolina-stories-series/
LOCATION:Horry County Museum\, 805 Main Street\, Conway\, SC\, 29526\, United States
END:VEVENT
END:VCALENDAR