BEGIN:VCALENDAR
VERSION:2.0
PRODID:-//Horry County Museum - ECPv6.15.14//NONSGML v1.0//EN
CALSCALE:GREGORIAN
METHOD:PUBLISH
X-WR-CALNAME:Horry County Museum
X-ORIGINAL-URL:https://www.horrycountymuseum.org
X-WR-CALDESC:Events for Horry County Museum
REFRESH-INTERVAL;VALUE=DURATION:PT1H
X-Robots-Tag:noindex
X-PUBLISHED-TTL:PT1H
BEGIN:VTIMEZONE
TZID:UTC
BEGIN:STANDARD
TZOFFSETFROM:+0000
TZOFFSETTO:+0000
TZNAME:UTC
DTSTART:20240101T000000
END:STANDARD
END:VTIMEZONE
BEGIN:VEVENT
DTSTART;TZID=UTC:20250426T090000
DTEND;TZID=UTC:20250426T110000
DTSTAMP:20260423T065259
CREATED:20250321T193754Z
LAST-MODIFIED:20250321T194708Z
UID:4271-1745658000-1745665200@www.horrycountymuseum.org
SUMMARY:Free Children’s Program at the L.W. Paul Living History Farm
DESCRIPTION:Join us Saturday\, April 26th\, for a free 30 minute activity at the Farm! Parents can sign children up for a half hour session between 9 AM-11 AM. Group sizes will be limited. Children will learn about a few of the common vegetables grown on the family farm and start a mini garden using recycled egg cartons. \nFor information about available times and to register\, contact Marian Calder at 843-915-7861 or email calder.marian@horrycountysc.gov . Available sessions are 9\, 9:30\, 10 or 10:30\, please specify which session you would like upon registering. \nThe L.W. Paul Living History Farm is open Tuesday through Saturday\, 9 AM-4 PM and is located at 2279 Harris Short Cut Road\, Conway\, SC 29526.
URL:https://www.horrycountymuseum.org/event/free-childrens-program-at-the-l-w-paul-living-history-farm-58/
LOCATION:Horry County Museum\, 805 Main Street\, Conway\, SC\, 29526\, United States
END:VEVENT
BEGIN:VEVENT
DTSTART;TZID=UTC:20250426T130000
DTEND;TZID=UTC:20250426T130000
DTSTAMP:20260423T065259
CREATED:20250321T194757Z
LAST-MODIFIED:20250321T194814Z
UID:4273-1745672400-1745672400@www.horrycountymuseum.org
SUMMARY:Shark Tooth Charles to Speak at the Horry County Museum
DESCRIPTION:The Horry County Museum presents a program all about shark’s teeth by Charles Shelton on Saturday\, April 26th\, at 1:00 PM. \n“Shark Tooth Charles” has been hunting for shark’s teeth for close to 40 years. It’s his passion and he loves to give his time to educate\, inspire\, and enlighten others about the world of shark teeth hunting. In this program you’ll learn about shark teeth\, shark jaws\, and most importantly how to hunt for shark’s teeth. You’ll also learn about what can be found locally on our beaches. We hope that you walk away ready to hunt some teeth! \nThe program is free to the public and will be held in the Museum’s McCown Auditorium located at 805 Main Street\, Conway\, SC 29526. For more information\, call 843-915-5320 or email hcg.museum@horrycountysc.gov. To view a full list of scheduled programs\, visit the museum website at www.horrycountymuseum.org.
URL:https://www.horrycountymuseum.org/event/shark-tooth-charles-to-speak-at-the-horry-county-museum-2/
LOCATION:Horry County Museum\, 805 Main Street\, Conway\, SC\, 29526\, United States
END:VEVENT
END:VCALENDAR