BEGIN:VCALENDAR
VERSION:2.0
PRODID:-//Horry County Museum - ECPv6.15.14//NONSGML v1.0//EN
CALSCALE:GREGORIAN
METHOD:PUBLISH
X-WR-CALNAME:Horry County Museum
X-ORIGINAL-URL:https://www.horrycountymuseum.org
X-WR-CALDESC:Events for Horry County Museum
REFRESH-INTERVAL;VALUE=DURATION:PT1H
X-Robots-Tag:noindex
X-PUBLISHED-TTL:PT1H
BEGIN:VTIMEZONE
TZID:UTC
BEGIN:STANDARD
TZOFFSETFROM:+0000
TZOFFSETTO:+0000
TZNAME:UTC
DTSTART:20240101T000000
END:STANDARD
END:VTIMEZONE
BEGIN:VEVENT
DTSTART;TZID=UTC:20250430T130000
DTEND;TZID=UTC:20250430T130000
DTSTAMP:20260423T054402
CREATED:20250321T194940Z
LAST-MODIFIED:20250321T194940Z
UID:4275-1746018000-1746018000@www.horrycountymuseum.org
SUMMARY:Saving Sandy Island. Part of the Carolina Stories Series by SCETV
DESCRIPTION:The 2025 Horry County Museum Documentary Film Series continues with Saving Sandy Island. Part of the Carolina Stories Series by SCETV\, this film details the struggle to save an exceptional South Carolina island and its Gullah community from development. Home to endangered species and rare long leaf pine forests\, Sandy Island is the largest undeveloped freshwater island on the east coast. The program tells the story of the unique coalition of conservationists\, state agencies\, businessmen and community residents that came together to save this extraordinary place and preserve a historic culture. \nSaving Sandy Island takes a multi-faceted look at the sensitive issue of environmental development along this stretch of South Carolina’s coastline. A year in the making\, this program explores the complex issues surrounding the threat of development to Sandy Island\, the residents and the endangered red-cockaded woodpecker. Perspectives from all the main players in the debate-from the residents who are descended from freed slaves\, to the environmentalists\, to the developers themselves-are offered during this unflinching look. \nThe film is free to the public and will be shown at 1:00 PM\, Wednesday\, April 30th\, at the Horry County Museum\, located at 805 Main Street in Conway. \nThe Horry County Museum Documentary Film Matinees will continue throughout 2025. For a list of films\, visit our website at www.horrycountymuseum.org. For more information\, call the Horry County Museum at 843-915-5320 or e-mail hcg.museum@horrycountysc.gov.
URL:https://www.horrycountymuseum.org/event/saving-sandy-island-part-of-the-carolina-stories-series-by-scetv/
LOCATION:Horry County Museum\, 805 Main Street\, Conway\, SC\, 29526\, United States
END:VEVENT
END:VCALENDAR