BEGIN:VCALENDAR
VERSION:2.0
PRODID:-//Horry County Museum - ECPv6.15.14//NONSGML v1.0//EN
CALSCALE:GREGORIAN
METHOD:PUBLISH
X-WR-CALNAME:Horry County Museum
X-ORIGINAL-URL:https://www.horrycountymuseum.org
X-WR-CALDESC:Events for Horry County Museum
REFRESH-INTERVAL;VALUE=DURATION:PT1H
X-Robots-Tag:noindex
X-PUBLISHED-TTL:PT1H
BEGIN:VTIMEZONE
TZID:UTC
BEGIN:STANDARD
TZOFFSETFROM:+0000
TZOFFSETTO:+0000
TZNAME:UTC
DTSTART:20240101T000000
END:STANDARD
END:VTIMEZONE
BEGIN:VEVENT
DTSTART;TZID=UTC:20250503T090000
DTEND;TZID=UTC:20250503T110000
DTSTAMP:20260423T065156
CREATED:20250409T182935Z
LAST-MODIFIED:20250409T183004Z
UID:4281-1746262800-1746270000@www.horrycountymuseum.org
SUMMARY:Free Children’s Program at the L.W. Paul Living History Farm
DESCRIPTION:Join us Saturday\, May 3rd\, for a free 30 minute activity at the Farm! Parents can sign children up for a half hour session between 9 AM-11 AM. Group sizes will be limited. Children will learn about the different states of matter for water\, and evaporation and absorption. Children will also use dyed water to create lasting designs on paper once the water evaporates! \nFor information about available times and to register\, contact Marian Calder at 843-915-7861 or email calder.marian@horrycountysc.gov . Available sessions are 9\, 9:30\, 10 or 10:30\, please specify which session you would like upon registering. \nThe L.W. Paul Living History Farm is open Tuesday through Saturday\, 9 AM-4 PM and is located at 2279 Harris Short Cut Road\, Conway\, SC 29526.
URL:https://www.horrycountymuseum.org/event/free-childrens-program-at-the-l-w-paul-living-history-farm-59/
LOCATION:L.W. Paul Living History Farm\, 2279 Harris Short Cut Rd\, Conway\, SC\, 29526\, United States
END:VEVENT
BEGIN:VEVENT
DTSTART;TZID=UTC:20250503T130000
DTEND;TZID=UTC:20250503T130000
DTSTAMP:20260423T065156
CREATED:20250409T183128Z
LAST-MODIFIED:20250409T183201Z
UID:4283-1746277200-1746277200@www.horrycountymuseum.org
SUMMARY:Elizabeth Robertson Huntsinger as Eliza Lucas Pinckney
DESCRIPTION:The Horry County Museum presents a program by historic reenactor Elizabeth Robertson Huntsinger on Eliza Lucas Pinckney on Saturday\, May 3rd\, at 1:00 PM. Eliza Lucas Pinckney lives on in the history the experimentation and fruition of her many self-described “schemes.” This program follows Eliza through her life-long innovation both botanical and personal – and always for South Carolina. Eliza was very musical\, so her life must be shared with a bit of live music too! \nElizabeth Robertson Huntsinger is the author of Ghosts of Georgetown\, Georgetown Mysteries & Legends and two mysteries – Waterline and soon-to-be-published South Island Road. She loves portraying Eliza Lucas Pinckney and following in Eliza’s many “schemes.” Her most recent is the latest in a series of ‘Tea With Eliza Lucas Pinckney’ at Hampton Plantation. Huntsinger lives in Georgetown with her husband Lee. Her walking tour\, Ghosts of Georgetown Lantern Tours\, is in Georgetown’s waterfront Historic District. She also conducts a ghost tour and historic house tours at Hopswee Plantation. \nThe program is free to the public and will be held in the Museum’s McCown Auditorium located at 805 Main Street\, Conway\, SC 29526. For more information\, call 843-915-5320 or email hcg.museum@horrycountysc.gov. To view a full list of scheduled programs\, visit the museum website at www.horrycountymuseum.org.
URL:https://www.horrycountymuseum.org/event/elizabeth-robertson-huntsinger-as-eliza-lucas-pinckney/
LOCATION:Horry County Museum\, 805 Main Street\, Conway\, SC\, 29526\, United States
END:VEVENT
END:VCALENDAR