BEGIN:VCALENDAR
VERSION:2.0
PRODID:-//Horry County Museum - ECPv6.15.14//NONSGML v1.0//EN
CALSCALE:GREGORIAN
METHOD:PUBLISH
X-WR-CALNAME:Horry County Museum
X-ORIGINAL-URL:https://www.horrycountymuseum.org
X-WR-CALDESC:Events for Horry County Museum
REFRESH-INTERVAL;VALUE=DURATION:PT1H
X-Robots-Tag:noindex
X-PUBLISHED-TTL:PT1H
BEGIN:VTIMEZONE
TZID:UTC
BEGIN:STANDARD
TZOFFSETFROM:+0000
TZOFFSETTO:+0000
TZNAME:UTC
DTSTART:20240101T000000
END:STANDARD
END:VTIMEZONE
BEGIN:VEVENT
DTSTART;TZID=UTC:20250521T130000
DTEND;TZID=UTC:20250521T130000
DTSTAMP:20260423T065226
CREATED:20250409T184012Z
LAST-MODIFIED:20250409T184045Z
UID:4295-1747832400-1747832400@www.horrycountymuseum.org
SUMMARY:Soldier Stories: Valor in Vietnam
DESCRIPTION:The 2025 Horry County Museum Documentary Film Series continues with Soldier Stories: Valor in Vietnam. This locally produced film chronicles the common experiences of Americans in uniform during the Vietnam War through historic combat footage\, period photography\, and personal commentary by local Vietnam veterans and others.    \nThe film is free to the public and will be shown at 1:00 PM\, Wednesday\, May 21st\, at the Horry County Museum\, located at 805 Main Street in Conway. \nThe Horry County Museum Documentary Film Matinees will continue throughout 2025. For a list of films\, visit our website at www.horrycountymuseum.org. For more information\, call the Horry County Museum at 843-915-5320 or e-mail hcg.museum@horrycountysc.gov.
URL:https://www.horrycountymuseum.org/event/soldier-stories-valor-in-vietnam-4/
LOCATION:Horry County Museum\, 805 Main Street\, Conway\, SC\, 29526\, United States
END:VEVENT
END:VCALENDAR