BEGIN:VCALENDAR
VERSION:2.0
PRODID:-//Horry County Museum - ECPv6.15.14//NONSGML v1.0//EN
CALSCALE:GREGORIAN
METHOD:PUBLISH
X-WR-CALNAME:Horry County Museum
X-ORIGINAL-URL:https://www.horrycountymuseum.org
X-WR-CALDESC:Events for Horry County Museum
REFRESH-INTERVAL;VALUE=DURATION:PT1H
X-Robots-Tag:noindex
X-PUBLISHED-TTL:PT1H
BEGIN:VTIMEZONE
TZID:UTC
BEGIN:STANDARD
TZOFFSETFROM:+0000
TZOFFSETTO:+0000
TZNAME:UTC
DTSTART:20240101T000000
END:STANDARD
END:VTIMEZONE
BEGIN:VEVENT
DTSTART;TZID=UTC:20250702T130000
DTEND;TZID=UTC:20250702T130000
DTSTAMP:20260421T033820
CREATED:20250606T173201Z
LAST-MODIFIED:20250606T173201Z
UID:4333-1751461200-1751461200@www.horrycountymuseum.org
SUMMARY:The 2025 Horry County Museum Documentary Film Series continues with the locally produced film\, Birth of a Nation: The Making of the Declaration of Independence
DESCRIPTION:The 2025 Horry County Museum Documentary Film Series continues with the locally produced film\, Birth of a Nation: The Making of the Declaration of Independence. Produced and narrated by historian Rod Gragg\, this film chronicles the creation of one of the most important documents in American history.\nThe film is free to the public and will be shown at 1:00 PM\, Wednesday\, July 2nd\, at the Horry County Museum\, located at 805 Main Street in Conway.\nThe Horry County Museum Documentary Film Matinees will continue throughout 2025. For a list of films\, visit our website at www.horrycountymuseum.org. For more information\, call the Horry County Museum at 843-915-5320 or e-mail hcg.museum@horrycountysc.gov.
URL:https://www.horrycountymuseum.org/event/the-2025-horry-county-museum-documentary-film-series-continues-with-the-locally-produced-film-birth-of-a-nation-the-making-of-the-declaration-of-independence/
LOCATION:Horry County Museum\, 805 Main Street\, Conway\, SC\, 29526\, United States
END:VEVENT
END:VCALENDAR