BEGIN:VCALENDAR
VERSION:2.0
PRODID:-//Horry County Museum - ECPv6.15.14//NONSGML v1.0//EN
CALSCALE:GREGORIAN
METHOD:PUBLISH
X-WR-CALNAME:Horry County Museum
X-ORIGINAL-URL:https://www.horrycountymuseum.org
X-WR-CALDESC:Events for Horry County Museum
REFRESH-INTERVAL;VALUE=DURATION:PT1H
X-Robots-Tag:noindex
X-PUBLISHED-TTL:PT1H
BEGIN:VTIMEZONE
TZID:UTC
BEGIN:STANDARD
TZOFFSETFROM:+0000
TZOFFSETTO:+0000
TZNAME:UTC
DTSTART:20240101T000000
END:STANDARD
END:VTIMEZONE
BEGIN:VEVENT
DTSTART;TZID=UTC:20251203T130000
DTEND;TZID=UTC:20251203T130000
DTSTAMP:20260424T161437
CREATED:20251106T195447Z
LAST-MODIFIED:20251106T195510Z
UID:4455-1764766800-1764766800@www.horrycountymuseum.org
SUMMARY:Pages of History: South Carolina History through the Charleston Newspaper
DESCRIPTION:The 2025 Horry County Museum Documentary Film Series continues with the SCETV documentary\, Pages of History: South Carolina History through the Charleston Newspaper. \nThe Charleston Post & Courier was founded in 1803. Throughout its long history\, this family-owned newspaper has served the low country\, publishing news of war\, fire\, earthquake\, and hurricane\, as well as taking important stands on critical issues. \nThe film is free to the public and will be shown at 1:00 PM\, Wednesday\, December 3rd\, at the Horry County Museum\, located at 805 Main Street in Conway. \nThe Horry County Museum Documentary Film Matinees will continue throughout 2025. For a list of films\, visit our website at www.horrycountymuseum.org. For more information\, call the Horry County Museum at 843-915-5320 or e-mail hcg.museum@horrycountysc.gov.
URL:https://www.horrycountymuseum.org/event/pages-of-history-south-carolina-history-through-the-charleston-newspaper/
LOCATION:Horry County Museum\, 805 Main Street\, Conway\, SC\, 29526\, United States
END:VEVENT
END:VCALENDAR