BEGIN:VCALENDAR
VERSION:2.0
PRODID:-//Horry County Museum - ECPv6.15.14//NONSGML v1.0//EN
CALSCALE:GREGORIAN
METHOD:PUBLISH
X-ORIGINAL-URL:https://www.horrycountymuseum.org
X-WR-CALDESC:Events for Horry County Museum
REFRESH-INTERVAL;VALUE=DURATION:PT1H
X-Robots-Tag:noindex
X-PUBLISHED-TTL:PT1H
BEGIN:VTIMEZONE
TZID:UTC
BEGIN:STANDARD
TZOFFSETFROM:+0000
TZOFFSETTO:+0000
TZNAME:UTC
DTSTART:20240101T000000
END:STANDARD
END:VTIMEZONE
BEGIN:VEVENT
DTSTART;TZID=UTC:20251217T130000
DTEND;TZID=UTC:20251217T130000
DTSTAMP:20260424T203717
CREATED:20251106T200036Z
LAST-MODIFIED:20251106T200131Z
UID:4463-1765976400-1765976400@www.horrycountymuseum.org
SUMMARY:Chasing the Swamp Fox
DESCRIPTION:The 2025 Horry County Museum Documentary Film Series continues with Chasing the Swamp Fox. This film\, part of the Carolina Stories Series by SCETV\, details Francis Marion’s partisan campaigns during the American Revolution in South Carolina and paints a mosaic of what life was like in those years and how Marion’s participation led to the birth of modern day guerilla warfare as well as the liberation of our country. \nThe film is free to the public and will be shown at 1:00 PM\, Wednesday\, December 17th\, at the Horry County Museum\, located at 805 Main Street in Conway. \nThe Horry County Museum Documentary Film Matinees will continue throughout 2025. For a list of films\, visit our website at www.horrycountymuseum.org. For more information\, call the Horry County Museum at 843-915-5320 or e-mail hcg.museum@horrycountysc.gov.
URL:https://www.horrycountymuseum.org/event/chasing-the-swamp-fox-5/
LOCATION:Horry County Museum\, 805 Main Street\, Conway\, SC\, 29526\, United States
END:VEVENT
END:VCALENDAR