BEGIN:VCALENDAR
VERSION:2.0
PRODID:-//Horry County Museum - ECPv6.15.14//NONSGML v1.0//EN
CALSCALE:GREGORIAN
METHOD:PUBLISH
X-WR-CALNAME:Horry County Museum
X-ORIGINAL-URL:https://www.horrycountymuseum.org
X-WR-CALDESC:Events for Horry County Museum
REFRESH-INTERVAL;VALUE=DURATION:PT1H
X-Robots-Tag:noindex
X-PUBLISHED-TTL:PT1H
BEGIN:VTIMEZONE
TZID:UTC
BEGIN:STANDARD
TZOFFSETFROM:+0000
TZOFFSETTO:+0000
TZNAME:UTC
DTSTART:20240101T000000
END:STANDARD
END:VTIMEZONE
BEGIN:VEVENT
DTSTART;TZID=UTC:20251220T090000
DTEND;TZID=UTC:20251220T120000
DTSTAMP:20260424T161441
CREATED:20251106T200244Z
LAST-MODIFIED:20251106T200255Z
UID:4465-1766221200-1766232000@www.horrycountymuseum.org
SUMMARY:Christmas at the Farm
DESCRIPTION:Experience life on the family farm in Horry County from 1900-1955 at the L.W. Paul Living History Farm! Join us on December 20th from 9 AM until 12 PM to see how the farm family would have prepared for the Christmas season. Visit the farmhouse to see seasonal activities including cooking on the wood burning stove and decorating the Christmas tree. We’ll also have activities for children\, Christmas music in the Church\, and a variety of demonstrations throughout the Farm! \nThe L.W. Paul Living History Farm is open Tuesday-Saturday 9 AM-4 PM and teaches the history of the Horry County farm family from 1900-1955. The Farm is free and open to the public and is located at the corner of Hwy 701 North and Harris Shortcut Road in Conway\, SC. For more information\, please contact the L. W. Paul Living History Farm at 843-915-5321 or email the Horry County Museum at hcg.museum@horrycountysc.gov. \nFor a full list of programs and events at the Horry County Museum and L.W. Paul Living History Farm\, visit our website at www.horrycountymuseum.org.
URL:https://www.horrycountymuseum.org/event/christmas-at-the-farm-7/
LOCATION:L.W. Paul Living History Farm\, 2279 Harris Short Cut Rd\, Conway\, SC\, 29526\, United States
END:VEVENT
END:VCALENDAR