BEGIN:VCALENDAR
VERSION:2.0
PRODID:-//Horry County Museum - ECPv6.15.14//NONSGML v1.0//EN
CALSCALE:GREGORIAN
METHOD:PUBLISH
X-WR-CALNAME:Horry County Museum
X-ORIGINAL-URL:https://www.horrycountymuseum.org
X-WR-CALDESC:Events for Horry County Museum
REFRESH-INTERVAL;VALUE=DURATION:PT1H
X-Robots-Tag:noindex
X-PUBLISHED-TTL:PT1H
BEGIN:VTIMEZONE
TZID:America/New_York
BEGIN:DAYLIGHT
TZOFFSETFROM:-0500
TZOFFSETTO:-0400
TZNAME:EDT
DTSTART:20250309T070000
END:DAYLIGHT
BEGIN:STANDARD
TZOFFSETFROM:-0400
TZOFFSETTO:-0500
TZNAME:EST
DTSTART:20251102T060000
END:STANDARD
BEGIN:DAYLIGHT
TZOFFSETFROM:-0500
TZOFFSETTO:-0400
TZNAME:EDT
DTSTART:20260308T070000
END:DAYLIGHT
BEGIN:STANDARD
TZOFFSETFROM:-0400
TZOFFSETTO:-0500
TZNAME:EST
DTSTART:20261101T060000
END:STANDARD
BEGIN:DAYLIGHT
TZOFFSETFROM:-0500
TZOFFSETTO:-0400
TZNAME:EDT
DTSTART:20270314T070000
END:DAYLIGHT
BEGIN:STANDARD
TZOFFSETFROM:-0400
TZOFFSETTO:-0500
TZNAME:EST
DTSTART:20271107T060000
END:STANDARD
END:VTIMEZONE
BEGIN:VEVENT
DTSTART;TZID=America/New_York:20260225T130000
DTEND;TZID=America/New_York:20260225T130000
DTSTAMP:20260424T140757
CREATED:20260109T214759Z
LAST-MODIFIED:20260113T205949Z
UID:4525-1772024400-1772024400@www.horrycountymuseum.org
SUMMARY:Makin’ a Way Out of No Way-Modjeska Simkins: Portrait of the Humans Rights Activist
DESCRIPTION:The 2026 Horry County Museum Documentary Film Series continues with Makin’ a Way Out of No Way-Modjeska Simkins: Portrait of the Humans Rights Activist. \nPart of the Carolina Stories Series by SCETV\, this film tells the story of South Carolina human and civil rights matriarch\, Modjeska Monteith Simkins. This classic Carolina story is a portrait of an activist who laid the groundwork for some of the most significant civil rights cases in US history. \nThe film is free to the public and will be shown at 1:00 PM\, Wednesday\, February 25th\, at the Horry County Museum\, located at 805 Main Street in Conway. \nThe Horry County Museum Documentary Film Matinees will continue throughout 2026. For a list of films\, visit our website at www.horrycountymuseum.org. For more information\, call the Horry County Museum at 843-915-5320 or e-mail hcg.museum@horrycountysc.gov.
URL:https://www.horrycountymuseum.org/event/makin-a-way-out-of-no-way-modjeska-simkins-portrait-of-the-humans-rights-activist-3/
LOCATION:Horry County Museum\, 805 Main Street\, Conway\, SC\, 29526\, United States
END:VEVENT
END:VCALENDAR