BEGIN:VCALENDAR
VERSION:2.0
PRODID:-//Horry County Museum - ECPv6.15.14//NONSGML v1.0//EN
CALSCALE:GREGORIAN
METHOD:PUBLISH
X-ORIGINAL-URL:https://www.horrycountymuseum.org
X-WR-CALDESC:Events for Horry County Museum
REFRESH-INTERVAL;VALUE=DURATION:PT1H
X-Robots-Tag:noindex
X-PUBLISHED-TTL:PT1H
BEGIN:VTIMEZONE
TZID:America/New_York
BEGIN:DAYLIGHT
TZOFFSETFROM:-0500
TZOFFSETTO:-0400
TZNAME:EDT
DTSTART:20250309T070000
END:DAYLIGHT
BEGIN:STANDARD
TZOFFSETFROM:-0400
TZOFFSETTO:-0500
TZNAME:EST
DTSTART:20251102T060000
END:STANDARD
BEGIN:DAYLIGHT
TZOFFSETFROM:-0500
TZOFFSETTO:-0400
TZNAME:EDT
DTSTART:20260308T070000
END:DAYLIGHT
BEGIN:STANDARD
TZOFFSETFROM:-0400
TZOFFSETTO:-0500
TZNAME:EST
DTSTART:20261101T060000
END:STANDARD
BEGIN:DAYLIGHT
TZOFFSETFROM:-0500
TZOFFSETTO:-0400
TZNAME:EDT
DTSTART:20270314T070000
END:DAYLIGHT
BEGIN:STANDARD
TZOFFSETFROM:-0400
TZOFFSETTO:-0500
TZNAME:EST
DTSTART:20271107T060000
END:STANDARD
END:VTIMEZONE
BEGIN:VEVENT
DTSTART;TZID=America/New_York:20260310T110000
DTEND;TZID=America/New_York:20260310T110000
DTSTAMP:20260424T101755
CREATED:20260213T141740Z
LAST-MODIFIED:20260213T141740Z
UID:4542-1773140400-1773140400@www.horrycountymuseum.org
SUMMARY:Tina Harr: Scrappy Quilts
DESCRIPTION:We’re celebrating textiles throughout the month of March at the Horry County Museum! Join us March 10th at 11 AM as local quilter Tina Harr shows off a collection of scrappy quilts. \nA native of the Hudson Valley in New York\, Tina Harr is proud to call Conway her home for over 10 years. Her first sewing experience was with her grandmother making 9 patch blocks the old fashioned way: marking the fabric with a pen and square cut from a cereal box and doing all the cutting with scissors. The quilts they made were tied and a bedsheet was the backing material. \nIn 2000\, Tina joined a quilt group in NY and learned about all the innovations that had happened since the early ’70’s\, rotary cutters\, thick plastic templates……etc.  Being part of the Serendipity Stitchers was something she missed when she first moved to Conway\, and when her friend Patsy Ray told her about the Conway Quilters she joined them in their second year. The things Tina loves most about the group are their charitable endeavors and being part of the Quilts of Valor program. \nThis program is free to the public. The Horry County Museum is located at 805 Main St.\, Conway\, SC 29526. For more information\, call 843-915-5320 or email hcg.museum@horrycountysc.gov . To view a full list of programs\, visit our website at www.horrycountymuseum.org.
URL:https://www.horrycountymuseum.org/event/tina-harr-scrappy-quilts/
LOCATION:Horry County Museum\, 805 Main Street\, Conway\, SC\, 29526\, United States
END:VEVENT
END:VCALENDAR