BEGIN:VCALENDAR
VERSION:2.0
PRODID:-//Horry County Museum - ECPv6.15.14//NONSGML v1.0//EN
CALSCALE:GREGORIAN
METHOD:PUBLISH
X-WR-CALNAME:Horry County Museum
X-ORIGINAL-URL:https://www.horrycountymuseum.org
X-WR-CALDESC:Events for Horry County Museum
REFRESH-INTERVAL;VALUE=DURATION:PT1H
X-Robots-Tag:noindex
X-PUBLISHED-TTL:PT1H
BEGIN:VTIMEZONE
TZID:America/New_York
BEGIN:DAYLIGHT
TZOFFSETFROM:-0500
TZOFFSETTO:-0400
TZNAME:EDT
DTSTART:20250309T070000
END:DAYLIGHT
BEGIN:STANDARD
TZOFFSETFROM:-0400
TZOFFSETTO:-0500
TZNAME:EST
DTSTART:20251102T060000
END:STANDARD
BEGIN:DAYLIGHT
TZOFFSETFROM:-0500
TZOFFSETTO:-0400
TZNAME:EDT
DTSTART:20260308T070000
END:DAYLIGHT
BEGIN:STANDARD
TZOFFSETFROM:-0400
TZOFFSETTO:-0500
TZNAME:EST
DTSTART:20261101T060000
END:STANDARD
BEGIN:DAYLIGHT
TZOFFSETFROM:-0500
TZOFFSETTO:-0400
TZNAME:EDT
DTSTART:20270314T070000
END:DAYLIGHT
BEGIN:STANDARD
TZOFFSETFROM:-0400
TZOFFSETTO:-0500
TZNAME:EST
DTSTART:20271107T060000
END:STANDARD
END:VTIMEZONE
BEGIN:VEVENT
DTSTART;TZID=America/New_York:20260321T090000
DTEND;TZID=America/New_York:20260321T103000
DTSTAMP:20260424T073834
CREATED:20260213T144025Z
LAST-MODIFIED:20260213T144025Z
UID:4565-1774083600-1774089000@www.horrycountymuseum.org
SUMMARY:Free Children’s Program at the L.W. Paul Living History Farm
DESCRIPTION:Join us Saturday\, March 21st\, for a free 30 minute activity at the Farm! Parents can sign children up for a half hour session between 9 AM-11 AM. Group sizes will be limited. We’re showing our gratitude to those who have served in the military by decorating quilt squares. These squares will be sewn into quilts and given to local veterans through the Quilts of Valor Foundation\, all ages are welcome to participate. \nFor information about available times and to register\, contact Marian Calder at 843-915-7861 or email calder.marian@horrycountysc.gov . Available sessions are 9\, 9:30\, 10 or 10:30\, please specify which session you would like upon registering. \nThe L.W. Paul Living History Farm is open Tuesday through Saturday\, 9 AM-4 PM and is located at 2279 Harris Short Cut Road\, Conway\, SC 29526.
URL:https://www.horrycountymuseum.org/event/free-childrens-program-at-the-l-w-paul-living-history-farm-79/
LOCATION:L.W. Paul Living History Farm\, 2279 Harris Short Cut Rd\, Conway\, SC\, 29526\, United States
END:VEVENT
BEGIN:VEVENT
DTSTART;TZID=America/New_York:20260321T130000
DTEND;TZID=America/New_York:20260321T130000
DTSTAMP:20260424T073834
CREATED:20260213T144232Z
LAST-MODIFIED:20260213T144232Z
UID:4569-1774098000-1774098000@www.horrycountymuseum.org
SUMMARY:Saltwater Chamber Orchestra: Love is a Many Splendid Thing
DESCRIPTION:The Horry County Museum presents a concert by the Saltwater Chamber Orchestra on Saturday\, March 21st at 1 PM. Comprised of volunteer members and performers\, Saltwater Chamber Orchestra boasts a robust season of concerts with quality music performance. The group began as a club in the Coastal Carolina OLLI program in Myrtle Beach\, SC\, and is now an independent chamber string orchestra. Their repertoire consists of classical and show/pop selections\, as well as selections for various holidays. Throughout the years since its founding\, the organization has performed along the Grand Strand coast of South Carolina\, sharing the comforting sounds of strings in the palmetto community. Venues have included churches\, schools\, libraries\, and museums\, as part of an ongoing concert series\, and for educational\, charitable\, and civic events. For more information about the Saltwater Chamber Orchestra\, and to view a schedule of their events\, visit www.saltwaterchamberorchestra.org. \nThe concert will be held in the Museum’s McCown Auditorium located at 805 Main Street\, Conway\, SC 29526. This event is free and open to the public. For more information\, call 843-915-5320 or email hcg.museum@horrycountysc.gov. For more information about programs for 2025\, visit the museum website at www.horrycountymuseum.org.
URL:https://www.horrycountymuseum.org/event/saltwater-chamber-orchestra-love-is-a-many-splendid-thing/
LOCATION:Horry County Museum\, 805 Main Street\, Conway\, SC\, 29526\, United States
END:VEVENT
END:VCALENDAR