BEGIN:VCALENDAR
VERSION:2.0
PRODID:-//Horry County Museum - ECPv6.15.14//NONSGML v1.0//EN
CALSCALE:GREGORIAN
METHOD:PUBLISH
X-WR-CALNAME:Horry County Museum
X-ORIGINAL-URL:https://www.horrycountymuseum.org
X-WR-CALDESC:Events for Horry County Museum
REFRESH-INTERVAL;VALUE=DURATION:PT1H
X-Robots-Tag:noindex
X-PUBLISHED-TTL:PT1H
BEGIN:VTIMEZONE
TZID:America/New_York
BEGIN:DAYLIGHT
TZOFFSETFROM:-0500
TZOFFSETTO:-0400
TZNAME:EDT
DTSTART:20250309T070000
END:DAYLIGHT
BEGIN:STANDARD
TZOFFSETFROM:-0400
TZOFFSETTO:-0500
TZNAME:EST
DTSTART:20251102T060000
END:STANDARD
BEGIN:DAYLIGHT
TZOFFSETFROM:-0500
TZOFFSETTO:-0400
TZNAME:EDT
DTSTART:20260308T070000
END:DAYLIGHT
BEGIN:STANDARD
TZOFFSETFROM:-0400
TZOFFSETTO:-0500
TZNAME:EST
DTSTART:20261101T060000
END:STANDARD
BEGIN:DAYLIGHT
TZOFFSETFROM:-0500
TZOFFSETTO:-0400
TZNAME:EDT
DTSTART:20270314T070000
END:DAYLIGHT
BEGIN:STANDARD
TZOFFSETFROM:-0400
TZOFFSETTO:-0500
TZNAME:EST
DTSTART:20271107T060000
END:STANDARD
END:VTIMEZONE
BEGIN:VEVENT
DTSTART;TZID=America/New_York:20260422T130000
DTEND;TZID=America/New_York:20260422T130000
DTSTAMP:20260424T022354
CREATED:20260306T142722Z
LAST-MODIFIED:20260306T142722Z
UID:4616-1776862800-1776862800@www.horrycountymuseum.org
SUMMARY:This is Brookgreen Gardens. Part of the Carolina Stories Series by SCETV
DESCRIPTION:The 2026 Horry County Museum Documentary Film Series continues with This is Brookgreen Gardens. Part of the Carolina Stories Series by SCETV\, this film explores Brookgreen Gardens\, one of South Carolina’s most beloved landmarks\, located in Murrells Inlet\, near Myrtle Beach. History\, nature and art come together in a program that is both beautiful and informative\, revealing Brookgreen’s enduring importance to the Palmetto state. A distinctive collection of American figurative sculpture\, education programs for all ages\, dazzling gardens\, rare natural habitats\, a long and fascinating history—are the things that make Brookgreen Gardens such a unique treasure\, nestled between the Waccamaw River and the sea. \nThe film is free to the public and will be shown at 1:00 PM\, Wednesday\, April 22nd\, at the Horry County Museum\, located at 805 Main Street in Conway. \nThe Horry County Museum Documentary Film Matinees will continue throughout 2026. For a list of films\, visit our website at www.horrycountymuseum.org. For more information\, call the Horry County Museum at 843-915-5320 or e-mail hcg.museum@horrycountysc.gov.
URL:https://www.horrycountymuseum.org/event/this-is-brookgreen-gardens-part-of-the-carolina-stories-series-by-scetv/
LOCATION:Horry County Museum\, 805 Main Street\, Conway\, SC\, 29526\, United States
END:VEVENT
END:VCALENDAR