BEGIN:VCALENDAR
VERSION:2.0
PRODID:-//Horry County Museum - ECPv6.15.14//NONSGML v1.0//EN
CALSCALE:GREGORIAN
METHOD:PUBLISH
X-ORIGINAL-URL:https://www.horrycountymuseum.org
X-WR-CALDESC:Events for Horry County Museum
REFRESH-INTERVAL;VALUE=DURATION:PT1H
X-Robots-Tag:noindex
X-PUBLISHED-TTL:PT1H
BEGIN:VTIMEZONE
TZID:America/New_York
BEGIN:DAYLIGHT
TZOFFSETFROM:-0500
TZOFFSETTO:-0400
TZNAME:EDT
DTSTART:20250309T070000
END:DAYLIGHT
BEGIN:STANDARD
TZOFFSETFROM:-0400
TZOFFSETTO:-0500
TZNAME:EST
DTSTART:20251102T060000
END:STANDARD
BEGIN:DAYLIGHT
TZOFFSETFROM:-0500
TZOFFSETTO:-0400
TZNAME:EDT
DTSTART:20260308T070000
END:DAYLIGHT
BEGIN:STANDARD
TZOFFSETFROM:-0400
TZOFFSETTO:-0500
TZNAME:EST
DTSTART:20261101T060000
END:STANDARD
BEGIN:DAYLIGHT
TZOFFSETFROM:-0500
TZOFFSETTO:-0400
TZNAME:EDT
DTSTART:20270314T070000
END:DAYLIGHT
BEGIN:STANDARD
TZOFFSETFROM:-0400
TZOFFSETTO:-0500
TZNAME:EST
DTSTART:20271107T060000
END:STANDARD
END:VTIMEZONE
BEGIN:VEVENT
DTSTART;TZID=America/New_York:20260506T130000
DTEND;TZID=America/New_York:20260506T130000
DTSTAMP:20260424T043623
CREATED:20260421T173154Z
LAST-MODIFIED:20260421T173154Z
UID:4641-1778072400-1778072400@www.horrycountymuseum.org
SUMMARY:Forgotten Founder: Charles Pinckney
DESCRIPTION:The 2026 Horry County Museum Documentary Film Series continues with Forgotten Founder: Charles Pinckney. Part of the Carolina Stories Series by SCETV\, this film is a historical visualization of the biography of Charles Pinckney\, whose life serves as the basis for much of where and how we live today. Through the use of original digital artwork\, period illustrations\, historical documents\, dramatic reenactments\, and studio interviews\, this program weaves a tapestry that tells the story of a true public servant whose contributions to the birth of our nation and state are matched by no other historical figure. \nThe film is free to the public and will be shown at 1:00 PM\, Wednesday\, May 6th\, at the Horry County Museum\, located at 805 Main Street in Conway. \nThe Horry County Museum Documentary Film Matinees will continue throughout 2026. For a list of films\, visit our website at www.horrycountymuseum.org. For more information\, call the Horry County Museum at 843-915-5320 or e-mail hcg.museum@horrycountysc.gov.
URL:https://www.horrycountymuseum.org/event/forgotten-founder-charles-pinckney-4/
LOCATION:Horry County Museum\, 805 Main Street\, Conway\, SC\, 29526\, United States
END:VEVENT
END:VCALENDAR