BEGIN:VCALENDAR
VERSION:2.0
PRODID:-//Horry County Museum - ECPv6.15.14//NONSGML v1.0//EN
CALSCALE:GREGORIAN
METHOD:PUBLISH
X-WR-CALNAME:Horry County Museum
X-ORIGINAL-URL:https://www.horrycountymuseum.org
X-WR-CALDESC:Events for Horry County Museum
REFRESH-INTERVAL;VALUE=DURATION:PT1H
X-Robots-Tag:noindex
X-PUBLISHED-TTL:PT1H
BEGIN:VTIMEZONE
TZID:America/New_York
BEGIN:DAYLIGHT
TZOFFSETFROM:-0500
TZOFFSETTO:-0400
TZNAME:EDT
DTSTART:20250309T070000
END:DAYLIGHT
BEGIN:STANDARD
TZOFFSETFROM:-0400
TZOFFSETTO:-0500
TZNAME:EST
DTSTART:20251102T060000
END:STANDARD
BEGIN:DAYLIGHT
TZOFFSETFROM:-0500
TZOFFSETTO:-0400
TZNAME:EDT
DTSTART:20260308T070000
END:DAYLIGHT
BEGIN:STANDARD
TZOFFSETFROM:-0400
TZOFFSETTO:-0500
TZNAME:EST
DTSTART:20261101T060000
END:STANDARD
BEGIN:DAYLIGHT
TZOFFSETFROM:-0500
TZOFFSETTO:-0400
TZNAME:EDT
DTSTART:20270314T070000
END:DAYLIGHT
BEGIN:STANDARD
TZOFFSETFROM:-0400
TZOFFSETTO:-0500
TZNAME:EST
DTSTART:20271107T060000
END:STANDARD
END:VTIMEZONE
BEGIN:VEVENT
DTSTART;TZID=America/New_York:20260509T090000
DTEND;TZID=America/New_York:20260509T110000
DTSTAMP:20260424T101103
CREATED:20260421T173317Z
LAST-MODIFIED:20260421T173317Z
UID:4643-1778317200-1778324400@www.horrycountymuseum.org
SUMMARY:Free Children’s Program at the L.W. Paul Living History Farm
DESCRIPTION:Join us Saturday\, May 9th\, for a free 30 minute activity at the Farm! Parents can sign children up for a half hour session between 9 AM-11 AM. Group sizes will be limited. Children will learn about marbled paper and how it was used in the past. They’ll also use chalk to create their own marbled paper to take home. \nFor information about available times and to register\, contact Marian Calder at 843-915-7861 or email calder.marian@horrycountysc.gov . Available sessions are 9\, 9:30\, 10 or 10:30\, please specify which session you would like upon registering. \nThe L.W. Paul Living History Farm is open Tuesday through Saturday\, 9 AM-4 PM and is located at 2279 Harris Short Cut Road\, Conway\, SC 29526.
URL:https://www.horrycountymuseum.org/event/free-childrens-program-at-the-l-w-paul-living-history-farm-83/
LOCATION:L.W. Paul Living History Farm\, 2279 Harris Short Cut Rd\, Conway\, SC\, 29526\, United States
END:VEVENT
BEGIN:VEVENT
DTSTART;TZID=America/New_York:20260509T130000
DTEND;TZID=America/New_York:20260509T130000
DTSTAMP:20260424T101103
CREATED:20260421T173419Z
LAST-MODIFIED:20260421T173419Z
UID:4645-1778331600-1778331600@www.horrycountymuseum.org
SUMMARY:South Carolina Women & their War for Independence
DESCRIPTION:The Horry County Museum presents a program in collaboration with Coastal Carolina University and the South Carolina 250th Commission on Saturday\, May 9th\, 2026 at 1 PM. Join us as Lori Glover speaks on the topic of women in South Carolina and their war for independence. \nLorri Glover is the John Francis Bannon Endowed Chair in the History Department at Saint Louis University. Her books include Founders as Fathers: The Private Lives and Politics of the American Revolutionaries\, The Fate of the Revolution: Virginians Debate the Constitution\, and Eliza Lucas Pinckney: An Independent Woman in the Age of Revolution. Glover has also served as president of both the Southern Association for Women Historians and the Southern Historical Association. \nThe program is free to the public and will be held in the Museum’s McCown Auditorium located at 805 Main Street\, Conway\, SC 29526. For more information\, call 843-915-5320 or email hcg.museum@horrycountysc.gov. To view a full list of scheduled programs\, visit the museum website at www.horrycountymuseum.org.
URL:https://www.horrycountymuseum.org/event/south-carolina-women-their-war-for-independence/
LOCATION:Horry County Museum\, 805 Main Street\, Conway\, SC\, 29526\, United States
END:VEVENT
END:VCALENDAR