BEGIN:VCALENDAR
VERSION:2.0
PRODID:-//Horry County Museum - ECPv6.15.14//NONSGML v1.0//EN
CALSCALE:GREGORIAN
METHOD:PUBLISH
X-ORIGINAL-URL:https://www.horrycountymuseum.org
X-WR-CALDESC:Events for Horry County Museum
REFRESH-INTERVAL;VALUE=DURATION:PT1H
X-Robots-Tag:noindex
X-PUBLISHED-TTL:PT1H
BEGIN:VTIMEZONE
TZID:America/New_York
BEGIN:DAYLIGHT
TZOFFSETFROM:-0500
TZOFFSETTO:-0400
TZNAME:EDT
DTSTART:20250309T070000
END:DAYLIGHT
BEGIN:STANDARD
TZOFFSETFROM:-0400
TZOFFSETTO:-0500
TZNAME:EST
DTSTART:20251102T060000
END:STANDARD
BEGIN:DAYLIGHT
TZOFFSETFROM:-0500
TZOFFSETTO:-0400
TZNAME:EDT
DTSTART:20260308T070000
END:DAYLIGHT
BEGIN:STANDARD
TZOFFSETFROM:-0400
TZOFFSETTO:-0500
TZNAME:EST
DTSTART:20261101T060000
END:STANDARD
BEGIN:DAYLIGHT
TZOFFSETFROM:-0500
TZOFFSETTO:-0400
TZNAME:EDT
DTSTART:20270314T070000
END:DAYLIGHT
BEGIN:STANDARD
TZOFFSETFROM:-0400
TZOFFSETTO:-0500
TZNAME:EST
DTSTART:20271107T060000
END:STANDARD
END:VTIMEZONE
BEGIN:VEVENT
DTSTART;TZID=America/New_York:20260525T140000
DTEND;TZID=America/New_York:20260525T140000
DTSTAMP:20260422T231827
CREATED:20260421T174217Z
LAST-MODIFIED:20260421T174217Z
UID:4655-1779717600-1779717600@www.horrycountymuseum.org
SUMMARY:2026 Memorial Day Tribute Set for May 25 at McCown Auditorium in Conway
DESCRIPTION:2026 Memorial Day Tribute Set for May 25 at McCown Auditorium in Conway.  \n  \nCONWAY\, S.C. – Veterans of the American Armed Forces\, active-duty military\, and the general public are invited to the 2026 Memorial Day Tribute at 2 p.m. on Monday\, May 25th in McCown Auditorium at the Horry County Museum in Conway.  The event is sponsored by the Horry County Museum\, Goldfinch Funeral Home\, HTC\, and the United Bank Center for Military & Veteran Studies at Coastal Carolina University. \n“Memorial Day is a unique and important observance that honors those Americans in uniform who sacrificed their lives for our country\,” said Horry County Museum Director Walter Hill\, “and the annual Memorial Day Tribute will hopefully enable us to do that in a very special way.” \nThe 2026 Memorial Day Tribute at McCown Auditorium is designed to honor Americans in uniform of all ages who made the ultimate sacrifice in the service of their country\, and will include a moment of silence\, presentation of the national colors by a color guard\, live patriotic music\, and recognition of veterans of the American Armed Forces by service branch and era.  It also includes the screening of a locally produced historical documentary: Death Drop: The 82nd Airborne and D-Day\, which chronicles the actions of the U.S. Army’s 82nd Airborne Division on D-Day\, June 6\, 1944\, and airborne operations related to the Allied invasion of Normandy during World War II. \n“It’s an extraordinary story of courage and heroism\,” said author and historian Rod Gragg\, who is the producer of the documentary. “The airborne troops were the point of the spear on D-day\, which was the largest amphibious operation of World War II and greatly determined the outcome of the war in Europe. The 82nd Airborne and two other airborne divisions were dropped behind enemy lines by parachute and glider with the potentially deadly task of capturing crucial roads\, causeways and bridges to prepare for the main Allied landing force\, which stormed the beaches of Normandy.  What the Airborne troops achieved on D-Day was astounding\, but it came at great cost.” \nMcCown Auditorium and the Horry County Museum are located at 805 Main Street in Conway. “This special event is a very meaningful way for us to remember those in uniform who gave all on our behalf\,” said Meghan Hayden\, the president of Goldfinch Funeral Home\, “and it also provides us with an opportunity to express our gratitude to our local veterans and active-duty military for their service.” \nAdmission to the 2026 Memorial Day Tribute is free.
URL:https://www.horrycountymuseum.org/event/2026-memorial-day-tribute-set-for-may-25-at-mccown-auditorium-in-conway/
LOCATION:Horry County Museum\, 805 Main Street\, Conway\, SC\, 29526\, United States
END:VEVENT
BEGIN:VEVENT
DTSTART;TZID=America/New_York:20260527T130000
DTEND;TZID=America/New_York:20260527T130000
DTSTAMP:20260422T231827
CREATED:20260421T174353Z
LAST-MODIFIED:20260421T174353Z
UID:4657-1779886800-1779886800@www.horrycountymuseum.org
SUMMARY:SCETV film Backstage Pass
DESCRIPTION:The 2026 Horry County Museum Documentary Film Series continues with the SCETV film Backstage Pass. This hour long film goes behind the scenes of some of the biggest shows in Myrtle Beach\, giving a glimpse into the theatrical production process at places such as Legends in Concert\, The Carolina Opry\, The Palace Theatre\, the Alabama Theatre and Medieval Times. \nThe film is free to the public and will be shown at 1:00 PM\, Wednesday\, May 27th\, at the Horry County Museum\, located at 805 Main Street in Conway. \nThe Horry County Museum Documentary Film Matinees will continue throughout 2026. For a list of films\, visit our website at www.horrycountymuseum.org. For more information\, call the Horry County Museum at 843-915-5320 or e-mail hcg.museum@horrycountysc.gov.
URL:https://www.horrycountymuseum.org/event/scetv-film-backstage-pass/
LOCATION:Horry County Museum\, 805 Main Street\, Conway\, SC\, 29526\, United States
END:VEVENT
BEGIN:VEVENT
DTSTART;TZID=America/New_York:20260530T090000
DTEND;TZID=America/New_York:20260530T110000
DTSTAMP:20260422T231827
CREATED:20260421T174503Z
LAST-MODIFIED:20260421T174503Z
UID:4659-1780131600-1780138800@www.horrycountymuseum.org
SUMMARY:Free Children’s Program at the L.W. Paul Living History Farm
DESCRIPTION:Join us Saturday\, May 30th\, for a free 30 minute activity at the Farm! Parents can sign children up for a half hour session between 9 AM-11 AM. Group sizes will be limited. In this session\, we’ll celebrate the warmer weather with a fun\, and tasty\, science experiment by making ice cream in a bag. \nFor information about available times and to register\, contact Marian Calder at 843-915-7861 or email calder.marian@horrycountysc.gov . Available sessions are 9\, 9:30\, 10 or 10:30\, please specify which session you would like upon registering. \nThe L.W. Paul Living History Farm is open Tuesday through Saturday\, 9 AM-4 PM and is located at 2279 Harris Short Cut Road\, Conway\, SC 29526.
URL:https://www.horrycountymuseum.org/event/free-childrens-program-at-the-l-w-paul-living-history-farm-85/
LOCATION:L.W. Paul Living History Farm\, 2279 Harris Short Cut Rd\, Conway\, SC\, 29526\, United States
END:VEVENT
END:VCALENDAR