BEGIN:VCALENDAR
VERSION:2.0
PRODID:-//Horry County Museum - ECPv6.15.14//NONSGML v1.0//EN
CALSCALE:GREGORIAN
METHOD:PUBLISH
X-WR-CALNAME:Horry County Museum
X-ORIGINAL-URL:https://www.horrycountymuseum.org
X-WR-CALDESC:Events for Horry County Museum
REFRESH-INTERVAL;VALUE=DURATION:PT1H
X-Robots-Tag:noindex
X-PUBLISHED-TTL:PT1H
BEGIN:VTIMEZONE
TZID:UTC
BEGIN:STANDARD
TZOFFSETFROM:+0000
TZOFFSETTO:+0000
TZNAME:UTC
DTSTART:20240101T000000
END:STANDARD
END:VTIMEZONE
BEGIN:VEVENT
DTSTART;TZID=UTC:20250604T130000
DTEND;TZID=UTC:20250604T130000
DTSTAMP:20260421T033820
CREATED:20250523T012758Z
LAST-MODIFIED:20250523T012758Z
UID:4328-1749042000-1749042000@www.horrycountymuseum.org
SUMMARY:The 2025 Horry County Museum Documentary Film Series continues with D-Day Remembered
DESCRIPTION:This locally produced documentary profiles the events of “Operation Overlord\,” the Allied invasion of German-occupied France\, which began on “D-Day” June 6\, 1944. The joint military operation involved more than 150\,000 Allied troops\, almost 5\,000 ships and landing craft\, 13\,000 aircraft\, 3\,500 airborne gliders\, and more than 2-million tons of equipment.\nThe film is free to the public and will be shown at 1:00 PM\, Wednesday\, June 4th\, at the Horry County Museum\, located at 805 Main Street in Conway.\nThe Horry County Museum Documentary Film Matinees will continue throughout 2025. For a list of films\, visit our website at www.horrycountymuseum.org. For more information\, call the Horry County Museum at 843-915-5320 or e-mail hcg.museum@horrycountysc.gov.
URL:https://www.horrycountymuseum.org/event/the-2025-horry-county-museum-documentary-film-series-continues-with-d-day-remembered/
LOCATION:Horry County Museum\, 805 Main Street\, Conway\, SC\, 29526\, United States
END:VEVENT
BEGIN:VEVENT
DTSTART;TZID=UTC:20250607T130000
DTEND;TZID=UTC:20250607T130000
DTSTAMP:20260421T033820
CREATED:20250523T012708Z
LAST-MODIFIED:20250523T012708Z
UID:4326-1749301200-1749301200@www.horrycountymuseum.org
SUMMARY:The End of the Road Bluegrass Band to perform at the Horry County Museum
DESCRIPTION:The Horry County Museum presents a free traditional bluegrass concert by The End of the Road Bluegrass Band on Saturday\, June 7th at 1:00 PM. The End of the Road Bluegrass Band is a regional band based out of Conway\, South Carolina. Formed in 2001\, the band plays traditional bluegrass and bluegrass gospel music. They have performed in several venues and churches\, including a monthly concert series held by the Rivertown Bluegrass Society and the Southeastern Bluegrass Association of SC. The band also performed at the first annual Sea Mountain Fiddlers Convention and Bluegrass Festival where they shared the stage with such bands as Alan Bibey & Grasstowne\, Carolina Blue\, and The Virginia Luthiers. Band members include Joe Hudson on guitar/vocals\, Ron Mew on mandolin/vocals\, Blake Marlowe on banjo/vocals\, and Stephanie Sullivan on fiddle.\nThe concert will be held in the Museum’s McCown Auditorium located at 805 Main Street\, Conway\, S.C. This event is free and open to the public. For more information\, call 843-915-5320 or email hcg.museum@horrycountysc.gov. For more information about our programs\, visit the museum website at www.horrycountymuseum.org.
URL:https://www.horrycountymuseum.org/event/the-end-of-the-road-bluegrass-band-to-perform-at-the-horry-county-museum-5/
LOCATION:Horry County Museum\, 805 Main Street\, Conway\, SC\, 29526\, United States
END:VEVENT
BEGIN:VEVENT
DTSTART;TZID=UTC:20250611T130000
DTEND;TZID=UTC:20250611T130000
DTSTAMP:20260421T033820
CREATED:20250523T012621Z
LAST-MODIFIED:20250523T012621Z
UID:4324-1749646800-1749646800@www.horrycountymuseum.org
SUMMARY:The 2025 Horry County Museum Documentary Film Series continues with SC A to Z
DESCRIPTION:This film\, part of the Carolina Stories Series by SCETV\, takes a light-hearted look at favorite places and homegrown things\, spanning the alphabet to showcase all that South Carolina is and has to offer. From the ACE Basin and the Arthur Ravenel Bridge to the Yorktown aircraft carrier and Zentrum (BMW’s visitor’s center)\, South Carolina A to Z is a vivid look at the unique offerings of South Carolina. Cameras spotlight the familiar (Brookgreen Gardens\, Palmetto trees) to the not-so-familiar (Edgefield pottery\, locally-grown rice\, UFO Welcome Center) for a glimpse of what makes our state so special.\nThe film is free to the public and will be shown at 1:00 PM\, Wednesday\, June 11th\, at the Horry County Museum\, located at 805 Main Street in Conway.\nThe Horry County Museum Documentary Film Matinees will continue throughout 2025. For a list of films\, visit our website at www.horrycountymuseum.org. For more information\, call the Horry County Museum at 843-915-5320 or e-mail hcg.museum@horrycountysc.gov.
URL:https://www.horrycountymuseum.org/event/the-2025-horry-county-museum-documentary-film-series-continues-with-sc-a-to-z/
LOCATION:Horry County Museum\, 805 Main Street\, Conway\, SC\, 29526\, United States
END:VEVENT
BEGIN:VEVENT
DTSTART;TZID=UTC:20250614T130000
DTEND;TZID=UTC:20250614T130000
DTSTAMP:20260421T033820
CREATED:20250523T012536Z
LAST-MODIFIED:20250523T012536Z
UID:4322-1749906000-1749906000@www.horrycountymuseum.org
SUMMARY:Alan Todd to speak on Conway Architectural Salvage and Heritage Project
DESCRIPTION:The Horry County Museum presents a program by Alan Todd\, Executive Director of Conway Architectural Salvage and Heritage Project\, on Saturday\, June 14th\, at 1:00 PM. Horry County is one of the fastest growing metropolitan areas in the country\, which has led to unprecedented construction and demolition. As older structures are rapidly demolished and cleared for new construction\, the local area’s inherently valuable used building materials\, structural histories\, and expert trade skills are unnecessarily lost to the landfill. In contrast\, the economic model of deconstruction provides a ready solution to this unnecessary waste and loss. Deconstruction is the careful disassembly of structures\, an alternative to traditional demolition. In this process\, building materials can be salvaged and reused\, histories researched and archived\, and traditional skills revived for future generations. Alan Todd will discuss the process of establishing a deconstruction industry in our area and the environmental and economic benefits it brings.\nAlan Todd is Executive Director of Conway Architectural Salvage and Heritage Project\, a nonprofit organization that focuses on building material reuse and trades preservation. A professor at Coastal Carolina University and trained archaeologist\, Alan’s life’s work culminates in saving old-growth lumber from landfills\, archiving the histories of family homes\, and reviving traditional building crafts through education and community development.\nThe program is free to the public and will be held in the Museum’s McCown Auditorium located at 805 Main Street\, Conway\, SC 29526. For more information\, call 843-915-5320 or email hcg.museum@horrycountysc.gov. To view a full list of scheduled programs\, visit the museum website at www.horrycountymuseum.org.
URL:https://www.horrycountymuseum.org/event/alan-todd-to-speak-on-conway-architectural-salvage-and-heritage-project/
LOCATION:Horry County Museum\, 805 Main Street\, Conway\, SC\, 29526\, United States
END:VEVENT
BEGIN:VEVENT
DTSTART;TZID=UTC:20250618T130000
DTEND;TZID=UTC:20250618T130000
DTSTAMP:20260421T033820
CREATED:20250523T012425Z
LAST-MODIFIED:20250523T012425Z
UID:4320-1750251600-1750251600@www.horrycountymuseum.org
SUMMARY:The 2025 Horry County Museum Documentary Film Series continues with When Rice Was King
DESCRIPTION:Part of the Carolina Stories Series by SCETV\, this film tells the story of how rice became a major cash crop in South Carolina. The cultivation of rice in South Carolina began in the late 1600s. By the time of the American Revolution\, it had created the largest concentration of wealth in the American colonies. The knowledge and labor of those enslaved from Africa’s Windward Coast were major factors in the making of this wealth. However\, South Carolina’s rice culture experienced heavy tolls due to the Civil War\, emancipation and hurricanes. The economic and social impact of the state’s rice culture created a legacy that remains today.\nThe film is free to the public and will be shown at 1:00 PM\, Wednesday\, June 18th\, at the Horry County Museum\, located at 805 Main Street in Conway.\nThe Horry County Museum Documentary Film Matinees will continue throughout 2025. For a list of films\, visit our website at www.horrycountymuseum.org. For more information\, call the Horry County Museum at 843-915-5320 or e-mail hcg.museum@horrycountysc.gov.
URL:https://www.horrycountymuseum.org/event/the-2025-horry-county-museum-documentary-film-series-continues-with-when-rice-was-king/
LOCATION:Horry County Museum\, 805 Main Street\, Conway\, SC\, 29526\, United States
END:VEVENT
BEGIN:VEVENT
DTSTART;VALUE=DATE:20250619
DTEND;VALUE=DATE:20250620
DTSTAMP:20260421T033820
CREATED:20250523T011903Z
LAST-MODIFIED:20250523T011903Z
UID:4314-1750291200-1750377599@www.horrycountymuseum.org
SUMMARY:Closed
DESCRIPTION:
URL:https://www.horrycountymuseum.org/event/closed-28/
LOCATION:SC
END:VEVENT
BEGIN:VEVENT
DTSTART;TZID=UTC:20250621T110000
DTEND;TZID=UTC:20250621T110000
DTSTAMP:20260421T033820
CREATED:20250523T012143Z
LAST-MODIFIED:20250523T012143Z
UID:4318-1750503600-1750503600@www.horrycountymuseum.org
SUMMARY:Quilts of Valor at the Horry County Museum
DESCRIPTION:The public is invited to view a special Quilts of Valor presentation at the Horry County Museum. Quilts made especially for local veterans will be presented by the Conway Quilt Guild Quilts of Valor Group on Saturday\, June 21st at 11 AM.\nThe mission of the Quilts of Valor Foundation (QOVF) is to cover all service members and veterans\, touched by war\, with a comforting and healing quilt. Since 2003\, the foundation\, now a national organization\, has awarded over 400\,000 quilts to veterans throughout the country. The Conway Quilt Guild has been recognized as one of the newest QOV groups\, seeking to expand recognition to veterans in the northern and western parts of Horry County. To nominate a veteran for a Quilt of Valor\, visit www.qovf.org. For more information about the Conway Quilt Guild\, email conwayquilters@yahoo.com.\nThis program is free and open to the public and will be held in the Museum’s McCown Auditorium\, located at 805 Main Street in Conway\, SC. To view a full list of programs at the Horry County Museum\, visit our website at www.horrycountymuseum.org.
URL:https://www.horrycountymuseum.org/event/quilts-of-valor-at-the-horry-county-museum-6/
LOCATION:Horry County Museum\, 805 Main Street\, Conway\, SC\, 29526\, United States
END:VEVENT
BEGIN:VEVENT
DTSTART;TZID=UTC:20250625T130000
DTEND;TZID=UTC:20250625T130000
DTSTAMP:20260421T033820
CREATED:20250523T012046Z
LAST-MODIFIED:20250523T012046Z
UID:4316-1750856400-1750856400@www.horrycountymuseum.org
SUMMARY:The 2025 Horry County Museum Documentary Film Series continues with Uncommon Folk
DESCRIPTION:There are some artists that fall outside of the definition of fine art. Sometimes referred to as folk\, outsider\, visionary or memory artists\, most are driven to create something that has a special meaning to them. Some use objects from their own backyard\, or illustrate personal visions or cultural history\, while others use art to cope with life. Some are celebrated locally\, while the work of others goes unseen until their deaths. One thing they have in common is that they are destined to leave their impression on this world through their work. This film takes a look at some of South Carolina’s unique self-taught artists including Maxi McConnell Eades\, Reverend Johnnie Simmons\, L.C. Carson\, Sam Doyle\, Ernest Lee\, and Margaret Robbins.\nThe film is free to the public and will be shown at 1:00 PM\, Wednesday\, June 25th\, at the Horry County Museum\, located at 805 Main Street in Conway.\nThe Horry County Museum Documentary Film Matinees will continue throughout 2025. For a list of films\, visit our website at www.horrycountymuseum.org. For more information\, call the Horry County Museum at 843-915-5320 or e-mail hcg.museum@horrycountysc.gov.
URL:https://www.horrycountymuseum.org/event/the-2025-horry-county-museum-documentary-film-series-continues-with-uncommon-folk/
LOCATION:Horry County Museum\, 805 Main Street\, Conway\, SC\, 29526\, United States
END:VEVENT
BEGIN:VEVENT
DTSTART;TZID=UTC:20250628T130000
DTEND;TZID=UTC:20250628T130000
DTSTAMP:20260421T033820
CREATED:20250606T172151Z
LAST-MODIFIED:20250606T172151Z
UID:4331-1751115600-1751115600@www.horrycountymuseum.org
SUMMARY:Conway City Hall – 200 Years of History
DESCRIPTION:Join Ben Burroughs\, the Director of the Horry County Archives Center at Coastal Carolina University\, on Saturday\, June 28th\, as he discusses the history of Conway’s City Hall. This lecture will feature the building’s origins and evolution over the past 200 years\, along with some interesting anecdotes associated with the building.\nBen is the director of the Horry County Archives Center\, established at Coastal Carolina University by the Horry County Higher Education Commission in 2006. The center focuses on researching the history of Horry County and surrounding counties\, including the history of Coastal Carolina University. The center works with local history-minded groups to find significant historical material\, preserve it and make it accessible to the public via digitization.\nThe program will begin at 1:00 pm in the McCown Auditorium located at 805 Main Street\, Conway S.C. This event is free and open to the public. For more information\, call 843-915-5320 or email hcg.museum@horrycountysc.gov. To view a full list of programs\, visit our website at www.horrycountymuseum.org.
URL:https://www.horrycountymuseum.org/event/conway-city-hall-200-years-of-history/
LOCATION:Horry County Museum\, 805 Main Street\, Conway\, SC\, 29526\, United States
END:VEVENT
END:VCALENDAR