BEGIN:VCALENDAR
VERSION:2.0
PRODID:-//Horry County Museum - ECPv6.15.14//NONSGML v1.0//EN
CALSCALE:GREGORIAN
METHOD:PUBLISH
X-WR-CALNAME:Horry County Museum
X-ORIGINAL-URL:https://www.horrycountymuseum.org
X-WR-CALDESC:Events for Horry County Museum
REFRESH-INTERVAL;VALUE=DURATION:PT1H
X-Robots-Tag:noindex
X-PUBLISHED-TTL:PT1H
BEGIN:VTIMEZONE
TZID:UTC
BEGIN:STANDARD
TZOFFSETFROM:+0000
TZOFFSETTO:+0000
TZNAME:UTC
DTSTART:20240101T000000
END:STANDARD
END:VTIMEZONE
BEGIN:VEVENT
DTSTART;TZID=UTC:20251203T130000
DTEND;TZID=UTC:20251203T130000
DTSTAMP:20260424T150522
CREATED:20251106T195447Z
LAST-MODIFIED:20251106T195510Z
UID:4455-1764766800-1764766800@www.horrycountymuseum.org
SUMMARY:Pages of History: South Carolina History through the Charleston Newspaper
DESCRIPTION:The 2025 Horry County Museum Documentary Film Series continues with the SCETV documentary\, Pages of History: South Carolina History through the Charleston Newspaper. \nThe Charleston Post & Courier was founded in 1803. Throughout its long history\, this family-owned newspaper has served the low country\, publishing news of war\, fire\, earthquake\, and hurricane\, as well as taking important stands on critical issues. \nThe film is free to the public and will be shown at 1:00 PM\, Wednesday\, December 3rd\, at the Horry County Museum\, located at 805 Main Street in Conway. \nThe Horry County Museum Documentary Film Matinees will continue throughout 2025. For a list of films\, visit our website at www.horrycountymuseum.org. For more information\, call the Horry County Museum at 843-915-5320 or e-mail hcg.museum@horrycountysc.gov.
URL:https://www.horrycountymuseum.org/event/pages-of-history-south-carolina-history-through-the-charleston-newspaper/
LOCATION:Horry County Museum\, 805 Main Street\, Conway\, SC\, 29526\, United States
END:VEVENT
BEGIN:VEVENT
DTSTART;TZID=UTC:20251206T090000
DTEND;TZID=UTC:20251206T160000
DTSTAMP:20260424T150522
CREATED:20251106T195803Z
LAST-MODIFIED:20251106T195818Z
UID:4459-1765011600-1765036800@www.horrycountymuseum.org
SUMMARY:Free Children’s Program at the L.W. Paul Living History Farm
DESCRIPTION:Join us for free 30 minute Saturday activities at the Farm! Parents can sign children up for a half hour session between 9 AM-11 AM. Group sizes will be limited. On December 6th children can choose from a variety of options to create a toy or holiday themed craft to make and take home! \nFor information about available times and to register\, contact Marian Calder at 843-915-7861 or email calder.marian@horrycountysc.gov . Available sessions are 9\, 9:30\, 10 or 10:30\, please specify which session you would like upon registering. \nThe L.W. Paul Living History Farm is open Tuesday through Saturday\, 9 AM-4 PM and is located at 2279 Harris Short Cut Road\, Conway\, SC 29526.
URL:https://www.horrycountymuseum.org/event/free-childrens-program-at-the-l-w-paul-living-history-farm-71/
LOCATION:L.W. Paul Living History Farm\, 2279 Harris Short Cut Rd\, Conway\, SC\, 29526\, United States
END:VEVENT
BEGIN:VEVENT
DTSTART;TZID=UTC:20251206T130000
DTEND;TZID=UTC:20251206T130000
DTSTAMP:20260424T150522
CREATED:20251106T195604Z
LAST-MODIFIED:20251106T195712Z
UID:4457-1765026000-1765026000@www.horrycountymuseum.org
SUMMARY:Ukes By the Sea to perform Christmas Music at the Horry County Museum
DESCRIPTION:The Horry County Museum presents a free Christmas concert by the local group Ukes By the Sea on Saturday\, December 6th\, at 1:00 PM. Ukes By The Sea is a light-hearted ukulele band based in Myrtle Beach\, SC.  Members of the band range in age from 11 to 93. Their mission is to share joy through happy music. More information about Ukes By the Sea can be found at Facebook.com@ukes.by.the.sea.2024 \nThe concert will be held in the Museum’s McCown Auditorium located at 805 Main Street\, Conway\, S.C. This event is free and open to the public\, no reservations or tickets required. For more information\, call 843-915-5320 or email hcg.museum@horrycountysc.gov. For more information about our programs\, visit the museum website at www.horrycountymuseum.org.
URL:https://www.horrycountymuseum.org/event/ukes-by-the-sea-to-perform-christmas-music-at-the-horry-county-museum/
LOCATION:Horry County Museum\, 805 Main Street\, Conway\, SC\, 29526\, United States
END:VEVENT
BEGIN:VEVENT
DTSTART;TZID=UTC:20251210T130000
DTEND;TZID=UTC:20251210T130000
DTSTAMP:20260424T150522
CREATED:20251106T195915Z
LAST-MODIFIED:20251106T195926Z
UID:4461-1765371600-1765371600@www.horrycountymuseum.org
SUMMARY:Myrtle Beach Memories
DESCRIPTION:The 2025 Horry County Museum Documentary Film Series continues with Myrtle Beach Memories.  This ETV film is a nostalgic look at the history of Myrtle Beach from 1900-1965. Told through interviews with local historians and business people\, this film features topics ranging from the Ocean Forest Hotel\, Hurricane Hazel\, the Myrtle Beach Pavilion\, and the Sun Fun Festival to motor inns\, guest houses and beach music. \nThe film is free to the public and will be shown at 1:00 PM\, Wednesday\, December 10th\, at the Horry County Museum\, located at 805 Main Street in Conway. \nThe Horry County Museum Documentary Film Matinees will continue throughout 2025. For a list of films\, visit our website at www.horrycountymuseum.org. For more information\, call the Horry County Museum at 843-915-5320 or e-mail hcg.museum@horrycountysc.gov.
URL:https://www.horrycountymuseum.org/event/myrtle-beach-memories-5/
LOCATION:Horry County Museum\, 805 Main Street\, Conway\, SC\, 29526\, United States
END:VEVENT
BEGIN:VEVENT
DTSTART;TZID=UTC:20251217T130000
DTEND;TZID=UTC:20251217T130000
DTSTAMP:20260424T150522
CREATED:20251106T200036Z
LAST-MODIFIED:20251106T200131Z
UID:4463-1765976400-1765976400@www.horrycountymuseum.org
SUMMARY:Chasing the Swamp Fox
DESCRIPTION:The 2025 Horry County Museum Documentary Film Series continues with Chasing the Swamp Fox. This film\, part of the Carolina Stories Series by SCETV\, details Francis Marion’s partisan campaigns during the American Revolution in South Carolina and paints a mosaic of what life was like in those years and how Marion’s participation led to the birth of modern day guerilla warfare as well as the liberation of our country. \nThe film is free to the public and will be shown at 1:00 PM\, Wednesday\, December 17th\, at the Horry County Museum\, located at 805 Main Street in Conway. \nThe Horry County Museum Documentary Film Matinees will continue throughout 2025. For a list of films\, visit our website at www.horrycountymuseum.org. For more information\, call the Horry County Museum at 843-915-5320 or e-mail hcg.museum@horrycountysc.gov.
URL:https://www.horrycountymuseum.org/event/chasing-the-swamp-fox-5/
LOCATION:Horry County Museum\, 805 Main Street\, Conway\, SC\, 29526\, United States
END:VEVENT
BEGIN:VEVENT
DTSTART;TZID=UTC:20251220T090000
DTEND;TZID=UTC:20251220T120000
DTSTAMP:20260424T150522
CREATED:20251106T200244Z
LAST-MODIFIED:20251106T200255Z
UID:4465-1766221200-1766232000@www.horrycountymuseum.org
SUMMARY:Christmas at the Farm
DESCRIPTION:Experience life on the family farm in Horry County from 1900-1955 at the L.W. Paul Living History Farm! Join us on December 20th from 9 AM until 12 PM to see how the farm family would have prepared for the Christmas season. Visit the farmhouse to see seasonal activities including cooking on the wood burning stove and decorating the Christmas tree. We’ll also have activities for children\, Christmas music in the Church\, and a variety of demonstrations throughout the Farm! \nThe L.W. Paul Living History Farm is open Tuesday-Saturday 9 AM-4 PM and teaches the history of the Horry County farm family from 1900-1955. The Farm is free and open to the public and is located at the corner of Hwy 701 North and Harris Shortcut Road in Conway\, SC. For more information\, please contact the L. W. Paul Living History Farm at 843-915-5321 or email the Horry County Museum at hcg.museum@horrycountysc.gov. \nFor a full list of programs and events at the Horry County Museum and L.W. Paul Living History Farm\, visit our website at www.horrycountymuseum.org.
URL:https://www.horrycountymuseum.org/event/christmas-at-the-farm-7/
LOCATION:L.W. Paul Living History Farm\, 2279 Harris Short Cut Rd\, Conway\, SC\, 29526\, United States
END:VEVENT
BEGIN:VEVENT
DTSTART;VALUE=DATE:20251224
DTEND;VALUE=DATE:20251228
DTSTAMP:20260424T150522
CREATED:20251015T174306Z
LAST-MODIFIED:20251015T174306Z
UID:4448-1766534400-1766879999@www.horrycountymuseum.org
SUMMARY:Christmas
DESCRIPTION:Closed
URL:https://www.horrycountymuseum.org/event/christmas/
LOCATION:SC
END:VEVENT
BEGIN:VEVENT
DTSTART;TZID=UTC:20251231T130000
DTEND;TZID=UTC:20251231T130000
DTSTAMP:20260424T150522
CREATED:20251106T200405Z
LAST-MODIFIED:20251106T200405Z
UID:4467-1767186000-1767186000@www.horrycountymuseum.org
SUMMARY:The 2025 Horry County Museum Documentary Film Series concludes with an installment of the South Carolina Hall of Fame Film Series produced by SCETV
DESCRIPTION:The 2025 Horry County Museum Documentary Film Series concludes with an installment of the South Carolina Hall of Fame Film Series produced by SCETV. This film will feature inductees from the Early 20th Century. \nEstablished in 1973\, The South Carolina Hall of Fame\, located in Myrtle Beach\, inducts one deceased and one contemporary honoree each year. It is by law the “official” Hall of Fame for South Carolina. There are nearly 100 members of the South Carolina Hall of Fame\, each of whom has made outstanding contributions to South Carolina’s heritage\, history\, and progress. \nBiographies of Early 20th Century inductees include Wil Lou Gray\, Archibald Rutledge\, Elizabeth O’Neill Verner\, Mary Simms Oliphant\, Ann Austin Young\, Benjamin Mays\, Elliott White Springs\, Septima Clark\, and Maude Callen. \nThe film is free to the public and will be shown at 1:00 PM\, Wednesday\, December 31st\, at the Horry County Museum\, located at 805 Main Street in Conway. \nThe Horry County Museum Documentary Film Matinees will resume in 2026. For a list of films\, visit our website at www.horrycountymuseum.org. For more information\, call the Horry County Museum at 843-915-5320 or e-mail hcg.museum@horrycountysc.gov.
URL:https://www.horrycountymuseum.org/event/the-2025-horry-county-museum-documentary-film-series-concludes-with-an-installment-of-the-south-carolina-hall-of-fame-film-series-produced-by-scetv/
LOCATION:Horry County Museum\, 805 Main Street\, Conway\, SC\, 29526\, United States
END:VEVENT
END:VCALENDAR