BEGIN:VCALENDAR
VERSION:2.0
PRODID:-//Horry County Museum - ECPv6.15.14//NONSGML v1.0//EN
CALSCALE:GREGORIAN
METHOD:PUBLISH
X-ORIGINAL-URL:https://www.horrycountymuseum.org
X-WR-CALDESC:Events for Horry County Museum
REFRESH-INTERVAL;VALUE=DURATION:PT1H
X-Robots-Tag:noindex
X-PUBLISHED-TTL:PT1H
BEGIN:VTIMEZONE
TZID:UTC
BEGIN:STANDARD
TZOFFSETFROM:+0000
TZOFFSETTO:+0000
TZNAME:UTC
DTSTART:20250101T000000
END:STANDARD
END:VTIMEZONE
BEGIN:VEVENT
DTSTART;VALUE=DATE:20260101
DTEND;VALUE=DATE:20260102
DTSTAMP:20260424T182319
CREATED:20251015T175416Z
LAST-MODIFIED:20251015T175618Z
UID:4450-1767225600-1767311999@www.horrycountymuseum.org
SUMMARY:New Year's Day - Closed
DESCRIPTION:Closed
URL:https://www.horrycountymuseum.org/event/new-years-day/
LOCATION:SC
END:VEVENT
BEGIN:VEVENT
DTSTART;TZID=UTC:20260103T090000
DTEND;TZID=UTC:20260103T110000
DTSTAMP:20260424T182319
CREATED:20251205T234506Z
LAST-MODIFIED:20251205T234526Z
UID:4481-1767430800-1767438000@www.horrycountymuseum.org
SUMMARY:Free Children’s Program at the L.W. Paul Living History Farm
DESCRIPTION:Join us for free 30 minute Saturday activities at the Farm! Parents can sign children up for a half hour session between 9 AM-11 AM. Group sizes will be limited. On January 3rd children will learn about local insects\, including honey bees. They’ll also get to sample different types of honey and see how the variety of plants that bees pollinate can change the honey that they make. \nFor information about available times and to register\, contact Marian Calder at 843-915-7861 or email calder.marian@horrycountysc.gov . Available sessions are 9\, 9:30\, 10 or 10:30\, please specify which session you would like upon registering. \nThe L.W. Paul Living History Farm is open Tuesday through Saturday\, 9 AM-4 PM and is located at 2279 Harris Short Cut Road\, Conway\, SC 29526.
URL:https://www.horrycountymuseum.org/event/free-childrens-program-at-the-l-w-paul-living-history-farm-72/
LOCATION:Horry County Museum\, 805 Main Street\, Conway\, SC\, 29526\, United States
END:VEVENT
BEGIN:VEVENT
DTSTART;TZID=UTC:20260107T130000
DTEND;TZID=UTC:20260107T130000
DTSTAMP:20260424T182319
CREATED:20251205T234636Z
LAST-MODIFIED:20251205T234849Z
UID:4483-1767790800-1767790800@www.horrycountymuseum.org
SUMMARY:Rebels & Redcoats: The Shot Heard Round the World.
DESCRIPTION:The 2026 Horry County Museum Documentary Film Series starts off with the first installment of the PBS Film Series Rebels & Redcoats: The Shot Heard Round the World. \n“With vivid dramatizations of battles\, eyewitness accounts\, original documents and paintings\, Rebels & Redcoats tells the untold story of the American Revolution. Richard Holmes\, a renowned British military historian\, presents the series. He focuses on the military struggles\, soldiers\, leaders\, and tactics of this great conflict. It is told from an unusual point of view\, that of the British losers. Yet it also explores painful conflicts within the American people themselves.” \nThe film is free to the public and will be shown at 1:00 PM\, Wednesday\, January 7th\, at the Horry County Museum\, located at 805 Main Street in Conway. \nThe Horry County Museum Documentary Film Matinees will continue throughout 2026. For a list of films\, visit our website at www.horrycountymuseum.org. For more information\, call the Horry County Museum at 843-915-5320 or e-mail hcg.museum@horrycountysc.gov.
URL:https://www.horrycountymuseum.org/event/rebels-redcoats-the-shot-heard-round-the-world-5/
LOCATION:Horry County Museum\, 805 Main Street\, Conway\, SC\, 29526\, United States
END:VEVENT
BEGIN:VEVENT
DTSTART;TZID=UTC:20260110T090000
DTEND;TZID=UTC:20260110T110000
DTSTAMP:20260424T182319
CREATED:20251205T234950Z
LAST-MODIFIED:20251205T235014Z
UID:4485-1768035600-1768042800@www.horrycountymuseum.org
SUMMARY:Free Children’s Program at the L.W. Paul Living History Farm
DESCRIPTION:Join us for free 30 minute Saturday activities at the Farm! Parents can sign children up for a half hour session between 9 AM-11 AM. Group sizes will be limited. On January 10th children will learn about the importance of the barn owl to the farm family. We’ll also dissect real barn owl pellets to learn what these local birds of prey like to eat! \nFor information about available times and to register\, contact Marian Calder at 843-915-7861 or email calder.marian@horrycountysc.gov . Available sessions are 9\, 9:30\, 10 or 10:30\, please specify which session you would like upon registering. \nThe L.W. Paul Living History Farm is open Tuesday through Saturday\, 9 AM-4 PM and is located at 2279 Harris Short Cut Road\, Conway\, SC 29526.
URL:https://www.horrycountymuseum.org/event/free-childrens-program-at-the-l-w-paul-living-history-farm-73/
LOCATION:L.W. Paul Living History Farm\, 2279 Harris Short Cut Rd\, Conway\, SC\, 29526\, United States
END:VEVENT
BEGIN:VEVENT
DTSTART;TZID=UTC:20260114T130000
DTEND;TZID=UTC:20260114T130000
DTSTAMP:20260424T182319
CREATED:20251205T235113Z
LAST-MODIFIED:20251205T235143Z
UID:4487-1768395600-1768395600@www.horrycountymuseum.org
SUMMARY:Rebels & Redcoats: American Crisis 1776
DESCRIPTION:The 2026 Horry County Museum Documentary Film Series continues with the PBS Film Series Rebels & Redcoats: American Crisis 1776. \nIn this installment\, Washington is forced out of New York. His army begins to desert him\, until a daring raid across a frozen river gives him victory at Trenton. But the British still seem to be masters in this war\, capturing the great Fort Ticonderoga. \nThe film is free to the public and will be shown at 1:00 PM\, Wednesday\, January 14th\, at the Horry County Museum\, located at 805 Main Street in Conway. \nThe Horry County Museum Documentary Film Matinees will continue throughout 2025. For a list of films\, visit our website at www.horrycountymuseum.org. For more information\, call the Horry County Museum at 843-915-5320 or e-mail hcg.museum@horrycountysc.gov.
URL:https://www.horrycountymuseum.org/event/rebels-redcoats-american-crisis-1776-4/
LOCATION:Horry County Museum\, 805 Main Street\, Conway\, SC\, 29526\, United States
END:VEVENT
BEGIN:VEVENT
DTSTART;VALUE=DATE:20260117
DTEND;VALUE=DATE:20260118
DTSTAMP:20260424T182319
CREATED:20251206T000241Z
LAST-MODIFIED:20251206T000241Z
UID:4497-1768608000-1768694399@www.horrycountymuseum.org
SUMMARY:Closed
DESCRIPTION:Closed for MLK\, Jr. Day
URL:https://www.horrycountymuseum.org/event/closed-30/
LOCATION:SC
END:VEVENT
BEGIN:VEVENT
DTSTART;TZID=UTC:20260121T130000
DTEND;TZID=UTC:20260121T130000
DTSTAMP:20260424T182319
CREATED:20251205T235244Z
LAST-MODIFIED:20251205T235323Z
UID:4489-1769000400-1769000400@www.horrycountymuseum.org
SUMMARY:Rebels & Redcoats: The War Moves South
DESCRIPTION:The 2026 Horry County Museum Documentary Film Series continues with the PBS Film Series Rebels & Redcoats: The War Moves South. \nIn the third installment of the series\, we see the British open a new front in the southern colonies. They win a series of victories against American and French forces\, and find a new army of recruits amongst former slaves. Thousands of African Americans join the British in the expectation of freedom. The war in the south is an often untold story of a savage war of partisans\, border raids and guerilla style skirmishing. \nThe film is free to the public and will be shown at 1:00 PM\, Wednesday\, January 21st\, at the Horry County Museum\, located at 805 Main Street in Conway. \nThe Horry County Museum Documentary Film Matinees will continue throughout 2026. For a list of films\, visit our website at www.horrycountymuseum.org. For more information\, call the Horry County Museum at 843-915-5320 or e-mail hcg.museum@horrycountysc.gov.
URL:https://www.horrycountymuseum.org/event/rebels-redcoats-the-war-moves-south-4/
LOCATION:Horry County Museum\, 805 Main Street\, Conway\, SC\, 29526\, United States
END:VEVENT
BEGIN:VEVENT
DTSTART;TZID=UTC:20260124T090000
DTEND;TZID=UTC:20260124T120000
DTSTAMP:20260424T182319
CREATED:20251205T235517Z
LAST-MODIFIED:20251205T235546Z
UID:4491-1769245200-1769256000@www.horrycountymuseum.org
SUMMARY:Smokehouse Day at the L.W. Paul Living History Farm
DESCRIPTION:Join us on January 24th from 9 AM-Noon at the L.W. Paul Living History Farm to celebrate the pig! The public is invited to experience how families would have prepared pork to be preserved on a typical Horry County Farm in the early 1900s. Winter was a season when the farm family was often dependent on home preserved foods\, and the perfect time of year for curing pork. Once the meat was cured\, families could not only eat the pork during the winter season\, but also throughout the year. No part of the animal was wasted on the farm\, from using the fat to render into lard\, to creating dishes like chitterlings\, hog head cheese\, or even pickled pig’s feet! Demonstrations include the carving and preparation of pork\, salting and curing meat in the smokehouse\, rendering lard\, cooking demos\, and more! \nThe L.W. Paul Living History Farm is open Tuesday-Saturday 9 AM-4 PM and teaches the history of the Horry County farm family from 1900-1955. The Farm is free and open to the public and is located at the corner of Hwy 701 North and Harris Shortcut Road in Conway\, SC. For more information\, please contact the L. W. Paul Living History Farm at 843-915-5321 or email the Horry County Museum at hcg.museum@horrycountysc.gov. \nFor a full list of programs and events at the Horry County Museum and L.W. Paul Living History Farm\, visit our website at www.horrycountymuseum.org.
URL:https://www.horrycountymuseum.org/event/smokehouse-day-at-the-l-w-paul-living-history-farm-8/
LOCATION:L.W. Paul Living History Farm\, 2279 Harris Short Cut Rd\, Conway\, SC\, 29526\, United States
END:VEVENT
BEGIN:VEVENT
DTSTART;TZID=UTC:20260128T130000
DTEND;TZID=UTC:20260128T130000
DTSTAMP:20260424T182319
CREATED:20251205T235642Z
LAST-MODIFIED:20251205T235658Z
UID:4493-1769605200-1769605200@www.horrycountymuseum.org
SUMMARY:Rebels & Redcoats: The World Turned Upside Down
DESCRIPTION:The 2026 Horry County Museum Documentary Film Series continues with the PBS Film Series Rebels & Redcoats: The World Turned Upside Down. \nIn the final installment of the series\, the British have enjoyed command of the sea\, and with it the ability to move thousands of troops to wherever they are needed. But now an extraordinary naval blunder allows the French fleet to isolate a large British garrison at Yorktown. Surrender is inevitable\, giving overall victory to Washington and his French allies. Those who have supported the British\, the loyalists\, thousands of African Americans and American Indians are left to the mercy of the new state. \nThe film is free to the public and will be shown at 1:00 PM\, Wednesday\, January 28th\, at the Horry County Museum\, located at 805 Main Street in Conway. \nThe Horry County Museum Documentary Film Matinees will continue throughout 2026. For a list of films\, visit our website at www.horrycountymuseum.org. For more information\, call the Horry County Museum at 843-915-5320 or e-mail hcg.museum@horrycountysc.gov.
URL:https://www.horrycountymuseum.org/event/rebels-redcoats-the-world-turned-upside-down-4/
LOCATION:Horry County Museum\, 805 Main Street\, Conway\, SC\, 29526\, United States
END:VEVENT
BEGIN:VEVENT
DTSTART;TZID=UTC:20260131T090000
DTEND;TZID=UTC:20260131T110000
DTSTAMP:20260424T182319
CREATED:20251205T235841Z
LAST-MODIFIED:20251205T235902Z
UID:4495-1769850000-1769857200@www.horrycountymuseum.org
SUMMARY:Free Children’s Program at the L.W. Paul Living History Farm
DESCRIPTION:Join us for free 30 minute Saturday activities at the Farm! Parents can sign children up for a half hour session between 9 AM-11 AM. Group sizes will be limited. On January 31st children will learn about different varieties of snakes that can be found in South Carolina. We will not have live snakes during the program. \nFor information about available times and to register\, contact Marian Calder at 843-915-7861 or email calder.marian@horrycountysc.gov . Available sessions are 9\, 9:30\, 10 or 10:30\, please specify which session you would like upon registering. \nThe L.W. Paul Living History Farm is open Tuesday through Saturday\, 9 AM-4 PM and is located at 2279 Harris Short Cut Road\, Conway\, SC 29526.
URL:https://www.horrycountymuseum.org/event/free-childrens-program-at-the-l-w-paul-living-history-farm-74/
LOCATION:L.W. Paul Living History Farm\, 2279 Harris Short Cut Rd\, Conway\, SC\, 29526\, United States
END:VEVENT
END:VCALENDAR